BEGIN:VCALENDAR
VERSION:2.0
PRODID:-//jEvents 2.0 for Joomla//EN
CALSCALE:GREGORIAN
METHOD:PUBLISH
BEGIN:VEVENT
UID:40b13de861eff997f1d2de22dc7be47e
CATEGORIES:23. Bezirk
CREATED:19700101T010000
SUMMARY:Babymassage (bis 6 Monate)
LOCATION:VHS Erlaa - Putzendoplergasse 4 /1230 Wien
DESCRIPTION:Berührung schafft Nähe, Vertrauen und wohltuende Entspannung, die Eltern-Ki
 nd-Bindung wird gestärkt und unterstützt einen guten Start ins Leben. Babym
 assage fördert die physische, psychische, emotionale und soziale Entwicklun
 g des Babys. In entspannter Atmosphäre erhalten Sie einen Überblick über di
 e geeigneten Massagetechniken und erlernen die Babymassage, um Beschwerden 
 wie Koliken, Blähungen, Schlafprobleme u.a. zu lindern. Bitte bequeme Kleid
 ung und Handtuch (Babydecke) mitbringen.\nPreis für alle 4 Termine: 30 Euro
 \nNähere Informationen unter https://www.vhs.at/de/k/285611452\n
X-ALT-DESC;FMTTYPE=text/html:<p>Berührung schafft Nähe, Vertrauen und wohltuende Entspannung, die Eltern
 -Kind-Bindung wird gestärkt und unterstützt einen guten Start ins Leben. Ba
 bymassage fördert die physische, psychische, emotionale und soziale Entwick
 lung des Babys. In entspannter Atmosphäre erhalten Sie einen Überblick über
  die geeigneten Massagetechniken und erlernen die Babymassage, um Beschwerd
 en wie Koliken, Blähungen, Schlafprobleme u.a. zu lindern. Bitte bequeme Kl
 eidung und Handtuch (Babydecke) mitbringen.</p><p><strong>Preis für alle 4 
 Termine: 30 Euro</strong></p><p style="text-align: left;"><strong>Nähere In
 formationen unter</strong> <a href="https://www.vhs.at/de/k/285611452">http
 s://www.vhs.at/de/k/285611452</a></p>
CONTACT:erlaa@vhs.at oder 01/ 89 174 123 302
X-EXTRAINFO:[preis='3000'][anmeldung='true']
DTSTAMP:20260423T141543
DTSTART:20221004T080000
DTEND:20221025T090000
SEQUENCE:0
RRULE:FREQ=WEEKLY;UNTIL=20221026T000000Z;INTERVAL=1;BYDAY=TU
TRANSP:OPAQUE
END:VEVENT
END:VCALENDAR