BEGIN:VCALENDAR
VERSION:2.0
PRODID:-//jEvents 2.0 for Joomla//EN
CALSCALE:GREGORIAN
METHOD:PUBLISH
BEGIN:VEVENT
UID:89f51a8e87e8080187def3f40b8f4d4c
CATEGORIES:18. Bezirk
CREATED:20220724T150715
SUMMARY:Musik mit Susanne für Kleinkinder
LOCATION:Spielringel\, Mollgasse 11-13
DESCRIPTION:Musik mit Susanne für Kleinkinder (30.08.)(12- 24 Monate)Der Gruppenraum wi
 rd zum Erlebnis- und Bewegungsraum. In gemütlicher, kindgerechter Umgebung 
 können neue Bekanntschaften geschlossen werden.\nJede Stunde regen neue Spi
 elimpulse zum Mitmachen an und geben Anreiz zur leichten Umsetzung zu Hause
 .\nDein Kind hat die Möglichkeit sich frei in einer Gruppe Gleichaltriger z
 u bewegen und dich trotzdem immer als sicheren Hafen zur Einkehr bei sich z
 u haben.\nAn diesem Einzeltermin kannst du dir ansehen, wie eine EInheit de
 r Spielgruppe mit Musik ablaufen kann. Im Herbst gbt es dann wieder 5-Woche
 n Kurse!\n
X-ALT-DESC;FMTTYPE=text/html:<header class="frame-header"><h2 class="element-header ">Musik mit Susanne 
 für Kleinkinder (30.08.)</h2><h4>(12- 24 Monate)</h4><p>Der Gruppenraum wir
 d zum Erlebnis- und Bewegungsraum. In gemütlicher, kindgerechter Umgebung k
 önnen neue Bekanntschaften geschlossen werden.</p><p>Jede Stunde regen neue
  Spielimpulse zum Mitmachen an und geben Anreiz zur leichten Umsetzung zu H
 ause.</p><p>Dein Kind hat die Möglichkeit sich frei in einer Gruppe Gleicha
 ltriger zu bewegen und dich trotzdem immer als sicheren Hafen zur Einkehr b
 ei sich zu haben.</p><p>An diesem Einzeltermin kannst du dir ansehen, wie e
 ine EInheit der Spielgruppe mit Musik ablaufen kann. Im Herbst gbt es dann 
 wieder 5-Wochen Kurse!</p></header>
CONTACT:www.spielringel.at
X-EXTRAINFO:[preis='1500'][anmeldung='true']
DTSTAMP:20260423T144113
DTSTART:20220830T131500
DTEND:20220830T140000
SEQUENCE:0
TRANSP:OPAQUE
END:VEVENT
END:VCALENDAR