BEGIN:VCALENDAR
VERSION:2.0
PRODID:-//jEvents 2.0 for Joomla//EN
CALSCALE:GREGORIAN
METHOD:PUBLISH
BEGIN:VEVENT
UID:7c2ce968c85b78a2131f45ba552c064d
CATEGORIES:18. Bezirk
CREATED:20220724T150843
SUMMARY:Musik mit Susanne für Babys
LOCATION:Spielringel\, Mollgasse 11-13
DESCRIPTION:Musik mit Susanne für Babys (31.08.)für Babys (6-14 Monate)„Musikalität ist
  vor allem die Fähigkeit von Musik berührt zu werden."\nEs wird dem Alter u
 nd der Entwicklung der Babys entsprechend, gespielt, gesungen, getanzt und 
 musiziert. Musik fördert die Entwicklung von Babys: Sie ist gut für die Bew
 egungskoordination, die Sprachentwicklung, den Gleichgewichtssinn und die B
 indung zur Bezugsperson. Das beste daran ist, dass es einfach Freude macht!
 \nAn diesem Einzeltermin kannst du dir ansehen, wie eine EInheit der Spielg
 ruppe mit Musik ablaufen kann. Im Herbst gbt es dann wieder 5-Wochen Kurse!
 \n  
X-ALT-DESC;FMTTYPE=text/html:<header class="frame-header"><h2 class="element-header ">Musik mit Susanne 
 für Babys (31.08.)</h2><h4>für Babys (6-14 Monate)</h4><div class="frame fr
 ame-default frame-type-textpic frame-layout-0 frame-background-none frame-n
 o-backgroundimage frame-space-before-none frame-space-after-none"><div clas
 s="frame-container"><div class="frame-inner"><div class="textpic textpic-ri
 ght"><div class="textpic-item textpic-text"><p>„Musikalität ist vor allem d
 ie Fähigkeit von Musik berührt zu werden."</p><p>Es wird dem Alter und der 
 Entwicklung der Babys entsprechend, gespielt, gesungen, getanzt und musizie
 rt. Musik fördert die Entwicklung von Babys: Sie ist gut für die Bewegungsk
 oordination, die Sprachentwicklung, den Gleichgewichtssinn und die Bindung 
 zur Bezugsperson. Das beste daran ist, dass es einfach Freude macht!</p><p>
 An diesem Einzeltermin kannst du dir ansehen, wie eine EInheit der Spielgru
 ppe mit Musik ablaufen kann. Im Herbst gbt es dann wieder 5-Wochen Kurse!</
 p></div></div></div></div></div><div id="c897" class="frame frame-default f
 rame-type-form_formframework frame-layout-0 frame-background-none frame-no-
 backgroundimage frame-space-before-none frame-space-after-none"><div class=
 "frame-container"><div class="frame-inner"><div class="form-container form-
 identifier-anmeldeformular-897"><form id="anmeldeformular-897" enctype="mul
 tipart/form-data" method="post" novalidate="novalidate"><div> </div><input 
 id="anmeldeformular-897-bWCsJDx" style="position: absolute; margin: 0 0 0 -
 999em;" tabindex="-1" autocomplete="bWCsJDx" name="tx_form_formframework[an
 meldeformular-897][bWCsJDx]" type="text" /><div class="form-actions"> </div
 ></form></div></div></div></div></header>
CONTACT:www.spielringel.at
X-EXTRAINFO:[preis='1500'][anmeldung='true']
DTSTAMP:20260423T142623
DTSTART:20220831T073000
DTEND:20220831T081500
SEQUENCE:0
TRANSP:OPAQUE
END:VEVENT
END:VCALENDAR