BEGIN:VCALENDAR
VERSION:2.0
PRODID:-//jEvents 2.0 for Joomla//EN
CALSCALE:GREGORIAN
METHOD:PUBLISH
BEGIN:VEVENT
UID:0fc3518ed5fbfdd9386aa2f8c0a98098
CATEGORIES:18. Bezirk
CREATED:19700101T010000
SUMMARY:Spielend durch die Jahreszeiten
LOCATION:Spielringel\, Mollgasse 11-13
DESCRIPTION:Spielend durch die Jahreszeitenfür Kinder ab 1 bis 2,5 Jahren (mit Begleitu
 ng)Start:  07.09.2022\nMit: Claudia (https://spielringel.at/angebote/das-te
 am/claudia)\nKurstag:  Mittwoch 09:30-10:30\nTermine:  07.09., 14.09., 21.0
 9., 28.09., 05.10.\nKosten:  €80,- (5-Wochen Kurs)\nWir spielen und basteln
  passend zur Jahreszeit!\nIn dieser Spielgruppe für Kleinkinder werden wir 
 gemeinsam den Jahreskreis mit allen Sinnen erleben. Es wird der Jahreszeit 
 entsprechend gebastelt, gewerkt, entdeckt und gespielt. Natürlich bleibt au
 ch genug Zeit und Raum für soziale Interaktionen und Bewegungen.\n
X-ALT-DESC;FMTTYPE=text/html:<header class="frame-header"><h2 class="element-header ">Spielend durch die
  Jahreszeiten</h2><h4>für Kinder ab 1 bis 2,5 Jahren (mit Begleitung)</h4><
 p><span class="text-primary font-weight-bold">Start: </span> 07.09.2022</p>
 <p><span class="text-primary font-weight-bold">Mit: </span><a href="https:/
 /spielringel.at/angebote/das-team/claudia">Claudia</a></p><p><span class="t
 ext-primary font-weight-bold">Kurstag: </span> Mittwoch 09:30-10:30</p><p><
 span class="text-primary font-weight-bold">Termine: </span> 07.09., 14.09.,
  21.09., 28.09., 05.10.</p><p><span class="text-primary font-weight-bold">K
 osten: </span> €80,- (5-Wochen Kurs)</p><p>Wir spielen und basteln passend 
 zur Jahreszeit!</p><p>In dieser Spielgruppe für Kleinkinder werden wir geme
 insam den Jahreskreis mit allen Sinnen erleben. Es wird der Jahreszeit ents
 prechend gebastelt, gewerkt, entdeckt und gespielt. Natürlich bleibt auch g
 enug Zeit und Raum für soziale Interaktionen und Bewegungen.</p></header>
CONTACT:www.spielringel.at
X-EXTRAINFO:[preis='8000'][anmeldung='true']
DTSTAMP:20260423T144104
DTSTART:20220907T073000
DTEND:20220907T083000
SEQUENCE:0
RRULE:FREQ=WEEKLY;UNTIL=20221008T000000Z;INTERVAL=1;BYDAY=WE
TRANSP:OPAQUE
END:VEVENT
END:VCALENDAR