BEGIN:VCALENDAR
VERSION:2.0
PRODID:-//jEvents 2.0 for Joomla//EN
CALSCALE:GREGORIAN
METHOD:PUBLISH
BEGIN:VEVENT
UID:da4173d126ffa29dc440a770eb6a8863
CATEGORIES:18. Bezirk
CREATED:19700101T010000
SUMMARY:Farbenspielerei
LOCATION:Spielringel\, Mollgasse 11-13
DESCRIPTION:FarbenspielereiSinnesspiel mit Farben für Kinder ab 1 bis 2,5 JahrenStart: 
  08.09.2022\nMit: Claudia (https://spielringel.at/angebote/das-team/claudia
 )\nKurstag:  Donnerstag 11:15-12:15\nTermine:  08.09., 15.09., 22.09., 29.0
 9., 06.10.\nKosten:  €80,- (5-Wochen Kurs)\nBei unserer Farbenspielerei dür
 fen sich die Kleinen jedesmal auf eine andere Art und Weise mit Farben aust
 oben!\nEinmal malen wir mit Fingerfarben, ein andermal stempeln oder kneten
  wir. -  Auf jeden Fall wird es jedesmal sehr bunt!\nBitte Gewand, das auch
  schmutzig werden darf, anziehen und Wechselgewand mitnehmen!\n
X-ALT-DESC;FMTTYPE=text/html:<header class="frame-header"><h2 class="element-header ">Farbenspielerei</h
 2><h4>Sinnesspiel mit Farben für Kinder ab 1 bis 2,5 Jahren</h4><p><span cl
 ass="text-primary font-weight-bold">Start: </span> 08.09.2022</p><p><span c
 lass="text-primary font-weight-bold">Mit: </span><a href="https://spielring
 el.at/angebote/das-team/claudia">Claudia</a></p><p><span class="text-primar
 y font-weight-bold">Kurstag: </span> Donnerstag 11:15-12:15</p><p><span cla
 ss="text-primary font-weight-bold">Termine: </span> 08.09., 15.09., 22.09.,
  29.09., 06.10.</p><p><span class="text-primary font-weight-bold">Kosten: <
 /span> €80,- (5-Wochen Kurs)</p><p>Bei unserer Farbenspielerei dürfen sich 
 die Kleinen jedesmal auf eine andere Art und Weise mit Farben austoben!</p>
 <p>Einmal malen wir mit Fingerfarben, ein andermal stempeln oder kneten wir
 . -  Auf jeden Fall wird es jedesmal sehr bunt!</p><p>Bitte Gewand, das auc
 h schmutzig werden darf, anziehen und Wechselgewand mitnehmen!</p></header>
CONTACT:www.spielringel.at
X-EXTRAINFO:[preis='8000'][anmeldung='true']
DTSTAMP:20260423T152658
DTSTART:20220908T091500
DTEND:20220908T101500
SEQUENCE:0
RRULE:FREQ=WEEKLY;UNTIL=20221009T000000Z;INTERVAL=1;BYDAY=TH
TRANSP:OPAQUE
END:VEVENT
END:VCALENDAR