BEGIN:VCALENDAR
VERSION:2.0
PRODID:-//jEvents 2.0 for Joomla//EN
CALSCALE:GREGORIAN
METHOD:PUBLISH
BEGIN:VEVENT
UID:3b498bf4918a7f8c5bb403be20542410
CATEGORIES:18. Bezirk
CREATED:20220724T152319
SUMMARY:Kreative Freude
LOCATION:Spielringel\, Mollgasse 11-13
DESCRIPTION:Kreative FreudeBastelworkshops für Kinder ab 2 Jahren (mit Begleitung)Mit: 
 Claudia (https://spielringel.at/angebote/das-team/claudia)\nKurstag:  Donne
 rstag 14:30-16:00\nKosten:  €25,- pro Kind mit Begleitperson\nBei der Kreat
 iven Freude geht es weniger um das Endprodukt, als um den Spaß und die Freu
 de beim Kreativ sein.\nNächste Termine und Themen:\n15.09. Igel &amp; Eulen
 \n20.10. Monster &amp; Spinnen\n17.11. Sonne, Mond &amp; Sterne\n15.12. Gla
 nz &amp; Glitzer\n19.01. Eisbären &amp; Pinguine\n \nEs werden verschiedene
  Bastelmaterialien und Ideen zu einem Thema zur Verfügung gestellt und die 
 Kinder dürfen nach Lust und Laune werken.\nWir malen, basteln, schnippseln,
  stempeln, stanzen, kleben, formen, usw .-  daher ist es sinnvoll, Gewand, 
 das auch schmutzig werden darf, anzuziehen.\n \n
X-ALT-DESC;FMTTYPE=text/html:<header class="frame-header"><h2 class="element-header ">Kreative Freude</h
 2><h4>Bastelworkshops für Kinder ab 2 Jahren (mit Begleitung)</h4><p><span 
 class="text-primary font-weight-bold">Mit: </span><a href="https://spielrin
 gel.at/angebote/das-team/claudia">Claudia</a></p><p><span class="text-prima
 ry font-weight-bold">Kurstag: </span> Donnerstag 14:30-16:00</p><p><span cl
 ass="text-primary font-weight-bold">Kosten: </span> €25,- pro Kind mit Begl
 eitperson</p><p>Bei der Kreativen Freude geht es weniger um das Endprodukt,
  als um den Spaß und die Freude beim Kreativ sein.</p><p>Nächste Termine un
 d Themen:</p><p>15.09. Igel &amp; Eulen</p><p>20.10. Monster &amp; Spinnen<
 /p><p>17.11. Sonne, Mond &amp; Sterne</p><p>15.12. Glanz &amp; Glitzer</p><
 p>19.01. Eisbären &amp; Pinguine</p><p> </p><p>Es werden verschiedene Baste
 lmaterialien und Ideen zu einem Thema zur Verfügung gestellt und die Kinder
  dürfen nach Lust und Laune werken.</p><p>Wir malen, basteln, schnippseln, 
 stempeln, stanzen, kleben, formen, usw .-  daher ist es sinnvoll, Gewand, d
 as auch schmutzig werden darf, anzuziehen.</p><p> </p></header>
CONTACT:www.spielringel.at
X-EXTRAINFO:[preis='2500'][anmeldung='true']
DTSTAMP:20260423T165606
DTSTART:20220915T123000
DTEND:20220915T140000
SEQUENCE:0
TRANSP:OPAQUE
END:VEVENT
END:VCALENDAR