BEGIN:VCALENDAR
VERSION:2.0
PRODID:-//jEvents 2.0 for Joomla//EN
CALSCALE:GREGORIAN
METHOD:PUBLISH
BEGIN:VEVENT
UID:e5366976759bd8e9db4e8d08e535e14f
CATEGORIES:19. Bezirk
CREATED:19700101T010000
SUMMARY:Verspielte Stunde
LOCATION:Raum Ida im Q19
DESCRIPTION:Verspielte Stundefür Babys von 6 - 18 Monaten (mit Begleitung)Start:  13.09
 .2022\nMit: Claudia (https://spielringel.at/angebote/das-team/claudia)\nKur
 stag:  Dienstag 13:30-14:30 im Raum Ida, Q19\nTermine:  13.09., 20.09., 27.
 09., 04.10., 11.10.\nKosten:  €70,- (5-Wochen Kurs)\nNach einem Begrüßungsl
 ied werden den Babys verschiedene Materialien angeboten. Passende Kniereite
 r und Fingerspiele runden das Angebot ab.\n \n
X-ALT-DESC;FMTTYPE=text/html:<div class="frame frame-default frame-type-textpic frame-layout-0 frame-bac
 kground-none frame-no-backgroundimage frame-space-before-none frame-space-a
 fter-none"><header class="frame-header"><h2 class="element-header ">Verspie
 lte Stunde</h2><h4>für Babys von 6 - 18 Monaten (mit Begleitung)</h4></head
 er><div class="frame-container"><div class="frame-inner"><div class="textpi
 c textpic-right"><div class="textpic-item textpic-text"><p><span class="tex
 t-primary font-weight-bold">Start: </span> 13.09.2022</p><p><span class="te
 xt-primary font-weight-bold">Mit: </span><a href="https://spielringel.at/an
 gebote/das-team/claudia">Claudia</a></p><p><span class="text-primary font-w
 eight-bold">Kurstag: </span> Dienstag 13:30-14:30 im Raum Ida, Q19</p><p><s
 pan class="text-primary font-weight-bold">Termine: </span> 13.09., 20.09., 
 27.09., 04.10., 11.10.</p><p><span class="text-primary font-weight-bold">Ko
 sten: </span> €70,- (5-Wochen Kurs)</p><p>Nach einem Begrüßungslied werden 
 den Babys verschiedene Materialien angeboten. Passende Kniereiter und Finge
 rspiele runden das Angebot ab.</p><p> </p></div></div></div></div></div>
CONTACT:www.spielringel.at
X-EXTRAINFO:[preis='7000'][anmeldung='true']
DTSTAMP:20260423T081810
DTSTART:20220913T113000
DTEND:20220913T123000
SEQUENCE:0
RRULE:FREQ=WEEKLY;UNTIL=20221014T000000Z;INTERVAL=1;BYDAY=TU
TRANSP:OPAQUE
END:VEVENT
END:VCALENDAR