BEGIN:VCALENDAR
VERSION:2.0
PRODID:-//jEvents 2.0 for Joomla//EN
CALSCALE:GREGORIAN
METHOD:PUBLISH
BEGIN:VEVENT
UID:223f19323b6528054b041eba50b6060f
CATEGORIES:3. Bezirk
CREATED:20220803T061554
SUMMARY:Baby-Kinder-Flohmarkt
LOCATION:Parkplatz Marxhalle\, Karl-Farkas-Gasse 2\, 1030 Wien
DESCRIPTION: \nlieblingsflohmarkt.at \nDein großer Baby-Kinder-Frauen-Flohmarkt\nKinder
 kleidung, Babyausstattung, Spielzeug, Kinderbücher, Kinderfahrräder, Damenm
 ode, Schuhe, Schmuck, Kosmetik, alles Sport und Spiel!\nEintritt frei! Viel
 e Parkplätze vorhanden, Buffet!\nOrt: Karl-Farkas-Gasse 2 in 1030 Wien - Pa
 rkplatz Marxhalle Wien\nU3 Erdberg und 5min zu Fuss (Nottendorferstrasse). 
 PKW-Einfahrt im Kreisverkehr Maria-Jacobi-Gasse Ecke Hermine-Jursa-Gasse in
  1030 Wien.\nKomm selber verkaufen und buche dir einen Standplatz um 30 Eur
 o. Dein Standplatz ist 5x4 Meter groß und dein Auto parkt am Standplatz. Ti
 sch oder Kleiderstange bitte selbst mitbringen!\nAlle Infos und Preise hier
  www.lieblingsflohmarkt.at (http://www.lieblingsflohmarkt.at) oder Tel.0650
 4455577\nFacebook https://www.facebook.com/events/499314488415131/573753807
 637865/\n GUT ZU WISSEN für BesucherInnen:\n - Eintritt frei!\n - Kleines B
 uffet mit Snacks, Getränken, Kaffee\n - Mobile WC vorhanden\n - Viele Besuc
 her-Parkplätze innerhalb des Flohmarkt-Areals\n - U3 Erdberg und 5min zu Fu
 ss (Nottendorferstrasse)\n - Riesige Auswahl an Baby-Kinder-Damen Sachen!  
  GUT ZU WISSEN für VerkäuferInnen:\n - eigenen Tisch mitbringen\n - 5x4m St
 ellfläche (20 Quadratmeter)\n - Auto parkt am Standplatz\n - 30 Euro Standg
 ebühr\n - Standplatz online kaufen auf unserer Website\n - Ticket am Handy 
 oder in Papier vorweisen\n - Einfahrtstor öffnet kurz vor 7h\n - Draussen-F
 lohmarkt (outdoor, keine Halle)\n - Standplätze werden zugewiesen je nach E
 intreffen\n - keine freie Platzwahl, keine Platznummern\n - Kinder+Damensac
 hen werden am selben Standplatz verkauft\n - Baby+Kinder+Frauenflohmarkt gl
 eichzeitig am gleichen Ort\n - Spendenbus für nicht mehr benötigte Sachen\n
  - Flohmarktzeit von 9-13h\n - findet bei jedem Wetter statt\n - keine Coro
 naregeln zurzeit!Sichere dir jetzt deinen eigenen Standplatz auf www.liebli
 ngsflohmarkt.at\n \n
X-ALT-DESC;FMTTYPE=text/html:<p> </p><p><strong>lieblingsflohmarkt.at </strong></p><p><strong>Dein große
 r Baby-Kinder-Frauen-Flohmarkt</strong></p><p>Kinderkleidung, Babyausstattu
 ng, Spielzeug, Kinderbücher, Kinderfahrräder, Damenmode, Schuhe, Schmuck, K
 osmetik, alles Sport und Spiel!</p><p>Eintritt frei! Viele Parkplätze vorha
 nden, Buffet!</p><p>Ort: Karl-Farkas-Gasse 2 in 1030 Wien - <strong>Parkpla
 tz Marxhalle Wien</strong><br />U3 Erdberg und 5min zu Fuss (Nottendorferst
 rasse). PKW-Einfahrt im Kreisverkehr Maria-Jacobi-Gasse Ecke Hermine-Jursa-
 Gasse in 1030 Wien.</p><p><strong>Komm selber verkaufen</strong> und buche 
 dir einen Standplatz um 30 Euro. Dein Standplatz ist 5x4 Meter groß und dei
 n Auto parkt am Standplatz. Tisch oder Kleiderstange bitte selbst mitbringe
 n!</p><p>Alle Infos und Preise hier <a href="http://www.lieblingsflohmarkt.
 at" target="_blank" rel="noopener noreferrer"><span style="color: #1b57b1;"
 >www.</span>lieblingsflohmarkt.at</a> oder Tel.06504455577</p><p>Facebook <
 a href="https://www.facebook.com/events/499314488415131/573753807637865/" t
 arget="_blank" rel="noopener noreferrer">https://www.facebook.com/events/49
 9314488415131/573753807637865/</a></p><div> </div><div><strong>GUT ZU WISSE
 N für BesucherInnen:</strong></div><ul><li>Eintritt frei!</li><li>Kleines B
 uffet mit Snacks, Getränken, Kaffee</li><li>Mobile WC vorhanden</li><li>Vie
 le Besucher-Parkplätze innerhalb des Flohmarkt-Areals</li><li>U3 Erdberg un
 d 5min zu Fuss (Nottendorferstrasse)</li><li>Riesige Auswahl an Baby-Kinder
 -Damen Sachen!</li></ul><div><strong> </strong><strong> </strong></div><div
 > </div><div><strong>GUT ZU WISSEN für VerkäuferInnen:</strong></div><ul><l
 i>eigenen Tisch mitbringen</li><li>5x4m Stellfläche (20 Quadratmeter)</li><
 li>Auto parkt am Standplatz</li><li>30 Euro Standgebühr</li><li>Standplatz 
 online kaufen auf unserer Website</li><li>Ticket am Handy oder in Papier vo
 rweisen</li><li>Einfahrtstor öffnet kurz vor 7h</li><li>Draussen-Flohmarkt 
 (outdoor, keine Halle)</li><li>Standplätze werden zugewiesen je nach Eintre
 ffen</li><li>keine freie Platzwahl, keine Platznummern</li><li>Kinder+Damen
 sachen werden am selben Standplatz verkauft</li><li>Baby+Kinder+Frauenflohm
 arkt gleichzeitig am gleichen Ort</li><li>Spendenbus für nicht mehr benötig
 te Sachen</li><li>Flohmarktzeit von 9-13h</li><li>findet bei jedem Wetter s
 tatt</li><li>keine Coronaregeln zurzeit!</li></ul><p><em><strong>Sichere di
 r jetzt deinen eigenen Standplatz auf www.lieblingsflohmarkt.at</strong></e
 m></p><p> </p>
CONTACT:info@lieblingsflohmarkt.at
X-EXTRAINFO:[preis='000'][anmeldung='false']
DTSTAMP:20260423T215935
DTSTART:20220827T070000
DTEND:20220827T110000
SEQUENCE:0
TRANSP:OPAQUE
END:VEVENT
END:VCALENDAR