BEGIN:VCALENDAR
VERSION:2.0
PRODID:-//jEvents 2.0 for Joomla//EN
CALSCALE:GREGORIAN
METHOD:PUBLISH
BEGIN:VEVENT
UID:d4cdd2d3bfe33cea299dc19427d3f9c2
CATEGORIES:3. Bezirk
CREATED:20220803T062010
SUMMARY:Baby-Kinder-Flohmarkt Wien
LOCATION:Parkplatz Marxhalle\, Karl-Farkas-Gasse 2 in 1030 Wien
DESCRIPTION:lieblingsflohmarkt.at\nDein großer Baby-Kinder-Frauen-Flohmarkt\nKinderklei
 dung, Babyausstattung, Spielzeug, Kinderbücher, Kinderfahrräder, Damenmode,
  Schuhe, Schmuck, Kosmetik, alles Sport und Spiel!\nEintritt frei! Viele Pa
 rkplätze vorhanden, Buffet!\nOrt: Karl-Farkas-Gasse 2 in 1030 Wien - Parkpl
 atz Marxhalle Wien\nU3 Erdberg und 5min zu Fuss (Nottendorferstrasse). PKW-
 Einfahrt im Kreisverkehr Maria-Jacobi-Gasse Ecke Hermine-Jursa-Gasse in 103
 0 Wien.\nKomm selber verkaufen und buche dir einen Standplatz um 30 Euro. D
 ein Standplatz ist 5x4 Meter groß und dein Auto parkt am Standplatz. Tisch 
 oder Kleiderstange bitte selbst mitbringen!\nAlle Infos und Preise hier www
 .lieblingsflohmarkt.at (http://www.lieblingsflohmarkt.at) oder Tel.06504455
 577\nFacebook https://www.facebook.com/events/499314488415131/5737538109711
 98/\n GUT ZU WISSEN für BesucherInnen:\n - Eintritt frei!\n - Kleines Buffe
 t mit Snacks, Getränken, Kaffee\n - Mobile WC vorhanden\n - Viele Besucher-
 Parkplätze innerhalb des Flohmarkt-Areals\n - U3 Erdberg und 5min zu Fuss (
 Nottendorferstrasse)\n - Riesige Auswahl an Baby-Kinder-Damen Sachen!   GUT
  ZU WISSEN für VerkäuferInnen:\n - eigenen Tisch mitbringen\n - 5x4m Stellf
 läche (20 Quadratmeter)\n - Auto parkt am Standplatz\n - 30 Euro Standgebüh
 r\n - Standplatz online kaufen auf unserer Website\n - Ticket am Handy oder
  in Papier vorweisen\n - Einfahrtstor öffnet kurz vor 7h\n - Draussen-Flohm
 arkt (outdoor, keine Halle)\n - Standplätze werden zugewiesen je nach Eintr
 effen\n - keine freie Platzwahl, keine Platznummern\n - Kinder+Damensachen 
 werden am selben Standplatz verkauft\n - Baby+Kinder+Frauenflohmarkt gleich
 zeitig am gleichen Ort\n - Spendenbus für nicht mehr benötigte Sachen\n - F
 lohmarktzeit von 9-13h\n - findet bei jedem Wetter statt\n - keine Coronare
 geln zurzeit!Sichere dir jetzt deinen eigenen Standplatz auf www.lieblingsf
 lohmarkt.at (http://www.lieblingsflohmarkt.at)\n
X-ALT-DESC;FMTTYPE=text/html:<p><strong>lieblingsflohmarkt.at</strong></p><p><strong>Dein großer Baby-Ki
 nder-Frauen-Flohmarkt</strong></p><p>Kinderkleidung, Babyausstattung, Spiel
 zeug, Kinderbücher, Kinderfahrräder, Damenmode, Schuhe, Schmuck, Kosmetik, 
 alles Sport und Spiel!</p><p>Eintritt frei! Viele Parkplätze vorhanden, Buf
 fet!</p><p>Ort: Karl-Farkas-Gasse 2 in 1030 Wien - <strong>Parkplatz Marxha
 lle Wien</strong><br />U3 Erdberg und 5min zu Fuss (Nottendorferstrasse). P
 KW-Einfahrt im Kreisverkehr Maria-Jacobi-Gasse Ecke Hermine-Jursa-Gasse in 
 1030 Wien.</p><p><strong>Komm selber verkaufen</strong> und buche dir einen
  Standplatz um 30 Euro. Dein Standplatz ist 5x4 Meter groß und dein Auto pa
 rkt am Standplatz. Tisch oder Kleiderstange bitte selbst mitbringen!</p><p>
 Alle Infos und Preise hier <a href="http://www.lieblingsflohmarkt.at" targe
 t="_blank" rel="noopener noreferrer"><span style="color: #1b57b1;">www.</sp
 an>lieblingsflohmarkt.at</a> oder Tel.06504455577</p><p>Facebook https://ww
 w.facebook.com/events/499314488415131/573753810971198/</p><div> </div><div>
 <strong>GUT ZU WISSEN für BesucherInnen:</strong></div><ul><li>Eintritt fre
 i!</li><li>Kleines Buffet mit Snacks, Getränken, Kaffee</li><li>Mobile WC v
 orhanden</li><li>Viele Besucher-Parkplätze innerhalb des Flohmarkt-Areals</
 li><li>U3 Erdberg und 5min zu Fuss (Nottendorferstrasse)</li><li>Riesige Au
 swahl an Baby-Kinder-Damen Sachen!</li></ul><div><strong> </strong><strong>
  </strong></div><div> </div><div><strong>GUT ZU WISSEN für VerkäuferInnen:<
 /strong></div><ul><li>eigenen Tisch mitbringen</li><li>5x4m Stellfläche (20
  Quadratmeter)</li><li>Auto parkt am Standplatz</li><li>30 Euro Standgebühr
 </li><li>Standplatz online kaufen auf unserer Website</li><li>Ticket am Han
 dy oder in Papier vorweisen</li><li>Einfahrtstor öffnet kurz vor 7h</li><li
 >Draussen-Flohmarkt (outdoor, keine Halle)</li><li>Standplätze werden zugew
 iesen je nach Eintreffen</li><li>keine freie Platzwahl, keine Platznummern<
 /li><li>Kinder+Damensachen werden am selben Standplatz verkauft</li><li>Bab
 y+Kinder+Frauenflohmarkt gleichzeitig am gleichen Ort</li><li>Spendenbus fü
 r nicht mehr benötigte Sachen</li><li>Flohmarktzeit von 9-13h</li><li>finde
 t bei jedem Wetter statt</li><li>keine Coronaregeln zurzeit!</li></ul><p><e
 m><strong>Sichere dir jetzt deinen eigenen Standplatz auf <a href="http://w
 ww.lieblingsflohmarkt.at" target="_blank" rel="noopener noreferrer">www.lie
 blingsflohmarkt.at</a></strong></em></p>
CONTACT:info@lieblingsflohmarkt.at
DTSTAMP:20260423T220036
DTSTART:20220910T070000
DTEND:20220910T110000
SEQUENCE:0
TRANSP:OPAQUE
END:VEVENT
END:VCALENDAR