BEGIN:VCALENDAR
VERSION:2.0
PRODID:-//jEvents 2.0 for Joomla//EN
CALSCALE:GREGORIAN
METHOD:PUBLISH
BEGIN:VEVENT
UID:3b575ac05f18096ad740f45e44a10210
CATEGORIES:3. Bezirk
CREATED:20220803T062354
SUMMARY:Baby-Kinder-Flohmarkt Wien
LOCATION:Parkplatz Marxhalle\, Karl-Farkas-Gasse 2 in 1030 Wien
DESCRIPTION:lieblingsflohmarkt.at\nDein großer Baby-Kinder-Frauen-Flohmarkt\nKinderklei
 dung, Babyausstattung, Spielzeug, Kinderbücher, Kinderfahrräder, Damenmode,
  Schuhe, Schmuck, Kosmetik, alles Sport und Spiel! \nEintritt frei! Viele P
 arkplätze vorhanden, Buffet!\nOrt: Karl-Farkas-Gasse 2 in 1030 Wien - Parkp
 latz Marxhalle Wien\nU3 Erdberg und 5min zu Fuss (Nottendorferstrasse). PKW
 -Einfahrt im Kreisverkehr Maria-Jacobi-Gasse Ecke Hermine-Jursa-Gasse in 10
 30 Wien.\nKomm selber verkaufen und buche dir einen Standplatz um 30 Euro. 
 Dein Standplatz ist 5x4 Meter groß und dein Auto parkt am Standplatz. Tisch
  oder Kleiderstange bitte selbst mitbringen!\nAlle Infos und Preise hier ww
 w.lieblingsflohmarkt.at (http://www.lieblingsflohmarkt.at) oder Tel.0650445
 5577\nFacebook https://www.facebook.com/events/499314488415131/573753800971
 199/\n GUT ZU WISSEN für BesucherInnen:\n - Eintritt frei!\n - Kleines Buff
 et mit Snacks, Getränken, Kaffee\n - Mobile WC vorhanden\n - Viele Besucher
 -Parkplätze innerhalb des Flohmarkt-Areals\n - U3 Erdberg und 5min zu Fuss 
 (Nottendorferstrasse)\n - Riesige Auswahl an Baby-Kinder-Damen Sachen!\n - 
 regelmäßige, monatliche Termine   GUT ZU WISSEN für VerkäuferInnen:\n - eig
 enen Tisch mitbringen\n - 5x4m Stellfläche (20 Quadratmeter)\n - Auto parkt
  am Standplatz\n - 30 Euro Standgebühr\n - Standplatz online kaufen auf uns
 erer Website\n - Ticket am Handy oder in Papier vorweisen\n - Einfahrtstor 
 öffnet kurz vor 7h\n - Draussen-Flohmarkt (outdoor, keine Halle)\n - Standp
 lätze werden zugewiesen je nach Eintreffen\n - keine freie Platzwahl, keine
  Platznummern\n - Kinder+Damensachen werden am selben Standplatz verkauft\n
  - Baby+Kinder+Frauenflohmarkt gleichzeitig am gleichen Ort\n - Spendenbus 
 für nicht mehr benötigte Sachen\n - Flohmarktzeit von 9-13h\n - findet bei 
 jedem Wetter statt\n - keine Coronaregeln zurzeit!Sichere dir jetzt deinen 
 eigenen Standplatz auf www.lieblingsflohmarkt.at (http://www.lieblingsflohm
 arkt.at)\n \n
X-ALT-DESC;FMTTYPE=text/html:<p><strong>lieblingsflohmarkt.at</strong></p><p><strong>Dein großer Baby-Ki
 nder-Frauen-Flohmarkt</strong></p><p>Kinderkleidung, Babyausstattung, Spiel
 zeug, Kinderbücher, Kinderfahrräder, Damenmode, Schuhe, Schmuck, Kosmetik, 
 alles Sport und Spiel! </p><p>Eintritt frei! Viele Parkplätze vorhanden, Bu
 ffet!</p><p>Ort: Karl-Farkas-Gasse 2 in 1030 Wien - <strong>Parkplatz Marxh
 alle Wien</strong><br />U3 Erdberg und 5min zu Fuss (Nottendorferstrasse). 
 PKW-Einfahrt im Kreisverkehr Maria-Jacobi-Gasse Ecke Hermine-Jursa-Gasse in
  1030 Wien.</p><p><strong>Komm selber verkaufen</strong> und buche dir eine
 n Standplatz um 30 Euro. Dein Standplatz ist 5x4 Meter groß und dein Auto p
 arkt am Standplatz. Tisch oder Kleiderstange bitte selbst mitbringen!</p><p
 >Alle Infos und Preise hier <a href="http://www.lieblingsflohmarkt.at" targ
 et="_blank" rel="noopener noreferrer"><span style="color: #1b57b1;">www.</s
 pan>lieblingsflohmarkt.at</a> oder Tel.06504455577</p><p>Facebook <a href="
 https://www.facebook.com/events/499314488415131/573753800971199/" target="_
 blank" rel="noopener noreferrer">https://www.facebook.com/events/4993144884
 15131/573753800971199/</a></p><div> </div><div><strong>GUT ZU WISSEN für Be
 sucherInnen:</strong></div><ul><li>Eintritt frei!</li><li>Kleines Buffet mi
 t Snacks, Getränken, Kaffee</li><li>Mobile WC vorhanden</li><li>Viele Besuc
 her-Parkplätze innerhalb des Flohmarkt-Areals</li><li>U3 Erdberg und 5min z
 u Fuss (Nottendorferstrasse)</li><li>Riesige Auswahl an Baby-Kinder-Damen S
 achen!</li><li>regelmäßige, monatliche Termine</li></ul><div><strong> </str
 ong><strong> </strong></div><div> </div><div><strong>GUT ZU WISSEN für Verk
 äuferInnen:</strong></div><ul><li>eigenen Tisch mitbringen</li><li>5x4m Ste
 llfläche (20 Quadratmeter)</li><li>Auto parkt am Standplatz</li><li>30 Euro
  Standgebühr</li><li>Standplatz online kaufen auf unserer Website</li><li>T
 icket am Handy oder in Papier vorweisen</li><li>Einfahrtstor öffnet kurz vo
 r 7h</li><li>Draussen-Flohmarkt (outdoor, keine Halle)</li><li>Standplätze 
 werden zugewiesen je nach Eintreffen</li><li>keine freie Platzwahl, keine P
 latznummern</li><li>Kinder+Damensachen werden am selben Standplatz verkauft
 </li><li>Baby+Kinder+Frauenflohmarkt gleichzeitig am gleichen Ort</li><li>S
 pendenbus für nicht mehr benötigte Sachen</li><li>Flohmarktzeit von 9-13h</
 li><li>findet bei jedem Wetter statt</li><li>keine Coronaregeln zurzeit!</l
 i></ul><p><em><strong>Sichere dir jetzt deinen eigenen Standplatz auf <a hr
 ef="http://www.lieblingsflohmarkt.at" target="_blank" rel="noopener norefer
 rer">www.lieblingsflohmarkt.at</a></strong></em></p><p> </p>
CONTACT:info@lieblingsflohmarkt.at
DTSTAMP:20260423T220034
DTSTART:20221001T070000
DTEND:20221001T110000
SEQUENCE:0
TRANSP:OPAQUE
END:VEVENT
END:VCALENDAR