BEGIN:VCALENDAR
VERSION:2.0
PRODID:-//jEvents 2.0 for Joomla//EN
CALSCALE:GREGORIAN
METHOD:PUBLISH
BEGIN:VEVENT
UID:983fed98f34df9ca9045ff75d1dde087
CATEGORIES:3. Bezirk
CREATED:20220803T062740
SUMMARY:Baby-Kinder-Flohmarkt Wien
LOCATION:Parkplatz Marxhalle\, Karl-Farkas-Gasse 2 in 1030 Wien
DESCRIPTION:lieblingsflohmarkt.at\nDein großer Baby-Kinder-Frauen-Flohmarkt\nKinderklei
 dung, Babyausstattung, Spielzeug, Kinderbücher, Kinderfahrräder, Damenmode,
  Schuhe, Schmuck, Kosmetik, alles Sport und Spiel! \nEintritt frei! Viele P
 arkplätze vorhanden, Buffet!\nOrt: Karl-Farkas-Gasse 2 in 1030 Wien - Parkp
 latz Marxhalle Wien\n U3 Erdberg und 5min zu Fuss (Nottendorferstrasse). PK
 W-Einfahrt im Kreisverkehr Maria-Jacobi-Gasse Ecke Hermine-Jursa-Gasse in 1
 030 Wien.\n \nKomm selber verkaufen und buche dir einen Standplatz um 30 Eu
 ro. Dein Standplatz ist 5x4 Meter groß und dein Auto parkt am Standplatz. T
 isch oder Kleiderstange bitte selbst mitbringen!\nAlle Infos und Preise hie
 r www.lieblingsflohmarkt.at (http://www.lieblingsflohmarkt.at) oder Tel.065
 04455577\nFacebook www.facebook.com/events/499314488415131/573753804304532/
 \n \nGUT ZU WISSEN für BesucherInnen:\n\n - Eintritt frei!\n - Kleines Buff
 et mit Snacks, Getränken, Kaffee\n - Mobile WC vorhanden\n - Viele Besucher
 -Parkplätze innerhalb des Flohmarkt-Areals\n - U3 Erdberg und 5min zu Fuss 
 (Nottendorferstrasse)\n - Riesige Auswahl an Baby-Kinder-Damen Sachen!\n - 
 regelmäßige, monatliche Termine  \n GUT ZU WISSEN für VerkäuferInnen:\n\n -
  eigenen Tisch mitbringen\n - 5x4m Stellfläche (20 Quadratmeter)\n - Auto p
 arkt am Standplatz\n - 30 Euro Standgebühr\n - Standplatz online kaufen auf
  unserer Website\n - Ticket am Handy oder in Papier vorweisen\n - Einfahrts
 tor öffnet kurz vor 7h\n - Draussen-Flohmarkt (outdoor, keine Halle)\n - St
 andplätze werden zugewiesen je nach Eintreffen\n - keine freie Platzwahl, k
 eine Platznummern\n - Kinder+Damensachen werden am selben Standplatz verkau
 ft\n - Baby+Kinder+Frauenflohmarkt gleichzeitig am gleichen Ort\n - Spenden
 bus für nicht mehr benötigte Sachen\n - Flohmarktzeit von 9-13h\n - findet 
 bei jedem Wetter statt\n - keine Coronaregeln zurzeit!Sichere dir jetzt dei
 nen eigenen Standplatz auf www.lieblingsflohmarkt.at (http://www.lieblingsf
 lohmarkt.at)\n
X-ALT-DESC;FMTTYPE=text/html:<p><strong>lieblingsflohmarkt.at</strong></p><p><strong>Dein großer Baby-Ki
 nder-Frauen-Flohmarkt</strong></p><p>Kinderkleidung, Babyausstattung, Spiel
 zeug, Kinderbücher, Kinderfahrräder, Damenmode, Schuhe, Schmuck, Kosmetik, 
 alles Sport und Spiel! </p><p>Eintritt frei! Viele Parkplätze vorhanden, Bu
 ffet!</p><p>Ort: Karl-Farkas-Gasse 2 in 1030 Wien - <strong>Parkplatz Marxh
 alle Wien</strong><br /> U3 Erdberg und 5min zu Fuss (Nottendorferstrasse).
  PKW-Einfahrt im Kreisverkehr Maria-Jacobi-Gasse Ecke Hermine-Jursa-Gasse i
 n 1030 Wien.</p><p> </p><p><strong>Komm selber verkaufen</strong> und buche
  dir einen Standplatz um 30 Euro. Dein Standplatz ist 5x4 Meter groß und de
 in Auto parkt am Standplatz. Tisch oder Kleiderstange bitte selbst mitbring
 en!</p><p>Alle Infos und Preise hier <a href="http://www.lieblingsflohmarkt
 .at">www.lieblingsflohmarkt.at</a> oder Tel.06504455577</p><p>Facebook <a h
 ref="http://www.facebook.com/events/499314488415131/573753804304532/" targe
 t="_blank" rel="noopener noreferrer">www.facebook.com/events/49931448841513
 1/573753804304532/</a></p><p> </p><p><strong>GUT ZU WISSEN für BesucherInne
 n:</strong></p><ul><li>Eintritt frei!</li><li>Kleines Buffet mit Snacks, Ge
 tränken, Kaffee</li><li>Mobile WC vorhanden</li><li>Viele Besucher-Parkplät
 ze innerhalb des Flohmarkt-Areals</li><li>U3 Erdberg und 5min zu Fuss (Nott
 endorferstrasse)</li><li>Riesige Auswahl an Baby-Kinder-Damen Sachen!</li><
 li>regelmäßige, monatliche Termine</li></ul><p><strong>  </strong></p><p> <
 strong>GUT ZU WISSEN für VerkäuferInnen:</strong></p><ul><li>eigenen Tisch 
 mitbringen</li><li>5x4m Stellfläche (20 Quadratmeter)</li><li>Auto parkt am
  Standplatz</li><li>30 Euro Standgebühr</li><li>Standplatz online kaufen au
 f unserer Website</li><li>Ticket am Handy oder in Papier vorweisen</li><li>
 Einfahrtstor öffnet kurz vor 7h</li><li>Draussen-Flohmarkt (outdoor, keine 
 Halle)</li><li>Standplätze werden zugewiesen je nach Eintreffen</li><li>kei
 ne freie Platzwahl, keine Platznummern</li><li>Kinder+Damensachen werden am
  selben Standplatz verkauft</li><li>Baby+Kinder+Frauenflohmarkt gleichzeiti
 g am gleichen Ort</li><li>Spendenbus für nicht mehr benötigte Sachen</li><l
 i>Flohmarktzeit von 9-13h</li><li>findet bei jedem Wetter statt</li><li>kei
 ne Coronaregeln zurzeit!</li></ul><p><strong><em>Sichere dir jetzt deinen e
 igenen Standplatz auf <a href="http://www.lieblingsflohmarkt.at">www.liebli
 ngsflohmarkt.at</a></em></strong></p>
CONTACT:info@lieblingsflohmarkt.at
DTSTAMP:20260423T173233
DTSTART:20221022T070000
DTEND:20221022T110000
SEQUENCE:0
TRANSP:OPAQUE
END:VEVENT
END:VCALENDAR