BEGIN:VCALENDAR
VERSION:2.0
PRODID:-//jEvents 2.0 for Joomla//EN
CALSCALE:GREGORIAN
METHOD:PUBLISH
BEGIN:VEVENT
UID:62289abfcb6ee8b36d15848f0b76035b
CATEGORIES:6. Bezirk
CREATED:20220815T094508
SUMMARY:Babymassage in Kleingruppe
LOCATION:6.\, Sandwirtgasse 13/12
DESCRIPTION:Babymassage im Biolino InstitutBeziehung durch Berührung Wie Babymassage de
 inem Baby und dir hilft:- Die Babymassage fördert das Urvertrauen deines Ba
 bys.\n- Die Babymassage fördert das Wohlbefinden deines Babys.\n- Die Babym
 assage wirkt entspannend, lockernd und beruhigend sowohl auf dein Baby als 
 auch auf dich.\n- Die Babymassage regt das Immunsystem an und stärkt den Kö
 rper deines Babys.\n- Die Babymassage wirkt lindernd bei Koliken und Zahnun
 gsschmerzen.\n- Die Babymassage kräftigt und lockert die Muskulatur deines 
 Babys und fördert die Beweglichkeit.\n- Die Babymassage kann einen gesunden
 , ruhigeren Schlaf fördern.\n- Die Babymassage stärkt die körperliche und e
 motionelle Entwicklung.\n \nWas erwartet dich:\nWie dein Baby all dies geni
 eßen und davon körperlich und emotional profitieren kann, zeige ich dir in 
 ruhiger Wohlfühl-Atmosphäre im Biolino Institut.\n \nKursinformationen4 Ein
 heiten zu je 60 Minuten\ngemütliche Kleingruppe mit maximal 5 Babys\n \nHer
 bstkurse:\nHerbst 1: 19., 26.September und 3. Oktober 2022\nHerbst 2: 17., 
 24.Oktober und 7. November 2022\nHerbst 3: 21., 18. November und 5. Dezembe
 r 2022\nWinter 1: 16., 23. und 20. Jänner 2023\nUhrzeit: 13.00 - 14.00 Uhr\
 nKosten: € 89,-\n \nHier geht`s zur Anmeldung: Babymassage\n \nDu erfährst 
 alle wichtigen Grundlagen der Babymassage und kannst am Ende des Kurses dei
 n Baby bei körperlichen und emotionalen Beschwerden unterstützen. Für die M
 assage wird ein biologisches Öl zur Verfügung gestellt. Du erhältst außerde
 m ein ausführliches Handout mit allen Techniken und Griffen und ein kleines
  Geschenk.\nNach der Babymassage gibt es genug Zeit und Raum für Austausch 
 untereinander und die Beantwortung von Fragen. \n \nBitte bring Folgendes z
 um Babymassagekurs mit:\n\n -        ein Handtuch\n -        gemütliche Kle
 idung für dich, die auch ölig werden darf \nDie Babymassage ist für Babys a
 b ca. 4 Wochen, bis zum individuellen Krabbelalter (ca. 6 Monate) geeignet.
 \n \nIch freue mich auf eine entspannte, gemütliche Babymassage mit euch!\n
  \nAlles Liebe,\nMartina\n \n
X-ALT-DESC;FMTTYPE=text/html:<h1>Babymassage im Biolino Institut</h1><h3>Beziehung durch Berührung</h3><
 h3> </h3><h3>Wie Babymassage deinem Baby und dir hilft:</h3><p>- Die Babyma
 ssage fördert das Urvertrauen deines Babys.</p><p>- Die Babymassage fördert
  das Wohlbefinden deines Babys.</p><p>- Die Babymassage wirkt entspannend, 
 lockernd und beruhigend sowohl auf dein Baby als auch auf dich.</p><p>- Die
  Babymassage regt das Immunsystem an und stärkt den Körper deines Babys.</p
 ><p>- Die Babymassage wirkt lindernd bei Koliken und Zahnungsschmerzen.</p>
 <p>- Die Babymassage kräftigt und lockert die Muskulatur deines Babys und f
 ördert die Beweglichkeit.</p><p>- Die Babymassage kann einen gesunden, ruhi
 geren Schlaf fördern.</p><p>- Die Babymassage stärkt die körperliche und em
 otionelle Entwicklung.</p><p> </p><p><strong>Was erwartet dich:</strong></p
 ><p>Wie dein Baby all dies genießen und davon körperlich und emotional prof
 itieren kann, zeige ich dir in ruhiger Wohlfühl-Atmosphäre im Biolino Insti
 tut.</p><p> </p><h3>Kursinformationen</h3><p><strong>4 Einheiten zu je 60 M
 inuten</strong></p><p><strong>gemütliche Kleingruppe mit maximal 5 Babys</s
 trong></p><p> </p><p><strong>Herbstkurse:</strong></p><p><strong>Herbst 1:<
 /strong> 19., 26.September und 3. Oktober 2022</p><p><strong>Herbst 2:</str
 ong> 17., 24.Oktober und 7. November 2022</p><p><strong>Herbst 3:</strong> 
 21., 18. November und 5. Dezember 2022</p><p><strong>Winter 1:</strong> 16.
 , 23. und 20. Jänner 2023</p><p><strong>Uhrzeit</strong>: 13.00 - 14.00 Uhr
 </p><p><strong>Kosten</strong>: € 89,-</p><p> </p><p>Hier geht`s zur Anmeld
 ung: Babymassage</p><p> </p><p>Du erfährst alle wichtigen Grundlagen der Ba
 bymassage und kannst am Ende des Kurses dein Baby bei körperlichen und emot
 ionalen Beschwerden unterstützen. Für die Massage wird ein biologisches Öl 
 zur Verfügung gestellt. Du erhältst außerdem ein ausführliches Handout mit 
 allen Techniken und Griffen und ein kleines Geschenk.</p><p>Nach der Babyma
 ssage gibt es genug Zeit und Raum für Austausch untereinander und die Beant
 wortung von Fragen. </p><p> </p><p><strong>Bitte bring Folgendes zum Babyma
 ssagekurs mit</strong>:</p><ul><li>       ein Handtuch</li><li>       gemüt
 liche Kleidung für dich, die auch ölig werden darf</li></ul><p> </p><p>Die 
 Babymassage ist für Babys <strong>ab ca. 4 Wochen, bis zum individuellen Kr
 abbelalter (ca. 6 Monate)</strong> geeignet.</p><p> </p><p><strong>Ich freu
 e mich auf eine entspannte, gemütliche Babymassage mit euch!</strong></p><p
 ><em> </em></p><p><em>Alles Liebe,</em></p><p><em>Martina</em></p><p> </p>
CONTACT:martina.novak@biolino.at, 067762892970
X-EXTRAINFO:[preis='8900'][anmeldung='true']
DTSTAMP:20260423T141615
DTSTART:20221017T110000
DTEND:20221107T130000
SEQUENCE:0
TRANSP:OPAQUE
END:VEVENT
END:VCALENDAR