BEGIN:VCALENDAR
VERSION:2.0
PRODID:-//jEvents 2.0 for Joomla//EN
CALSCALE:GREGORIAN
METHOD:PUBLISH
BEGIN:VEVENT
UID:85e8792aeb6a94a8cbd2907bd1fb9b03
CATEGORIES:6. Bezirk
CREATED:20220815T100653
SUMMARY:Fremdbetreuungs ABC für (werdende) Eltern
LOCATION:6.\, Sandwirtgasse 13/12
DESCRIPTION:Fremdbetreuungs-ABC für (werdende) Eltern Manche beschäftigt es schon in de
 r Schwangerschaft- spätestens aber, wenn unsere Babys flügge werden und der
  Beruf uns Eltern wieder zurück ins alte Leben ruft, müssen wir uns damit a
 useinandersetzen, wo/von wem unser Kind betreut und begleitet werden soll.\
 n \nWann ist denn das richtige Alter, um im Kindergarten loszustarten? Oder
  doch lieber in einer Kindergruppe oder bei einer Tagesmutter? Und was ist 
 da überhaupt der Unterschied? Woher weiß ich, ob mein Kind gut aufgehoben i
 st? Wie viel früher müssen wir uns nach einem Betreuungsplatz für unser Kük
 en umsehen? Und woran können wir uns bei der Suche nach UNSERER optimalen B
 etreuungslösung orientieren?\n \nIn diesem Vortrag bekommt ihr einen Überbl
 ick über die einzelnen Betreuungsmodelle, wir besprechen deren jeweiligen V
 or- und Nachteile und die wichtigsten Punkte, auf die man bei der Wahl der 
 richtigen Betreuungsinstitution achten sollte. Auch für eure individuellen 
 Fragen ist natürlich wie immer ausreichend Platz.\nWann: Freitag, 11. Novem
 ber 2022\nUhrzeit: 17.30 - 19.30 Uhr\n\nKosten: € 55,- pro Person / € 75,- 
 pro Paar\ninkl. Fachvortrag, Handout, Heißgetränk\nExpertin: Denise Winkler
 \n
X-ALT-DESC;FMTTYPE=text/html:<div id="cc-m-11891500497" class="j-module n j-header "><h3 id="cc-m-header
 -11891500497" class="">Fremdbetreuungs-ABC für (werdende) Eltern</h3></div>
 <div id="cc-m-11891500597" class="j-module n j-text "><p> Manche beschäftig
 t es schon in der Schwangerschaft- spätestens aber, wenn unsere Babys flügg
 e werden und der Beruf uns Eltern wieder zurück ins alte Leben ruft, müssen
  wir uns damit auseinandersetzen, wo/von wem unser Kind betreut und begleit
 et werden soll.</p><p> </p><p>Wann ist denn das richtige Alter, um im Kinde
 rgarten loszustarten? Oder doch lieber in einer Kindergruppe oder bei einer
  Tagesmutter? Und was ist da überhaupt der Unterschied? Woher weiß ich, ob 
 mein Kind gut aufgehoben ist? Wie viel früher müssen wir uns nach einem Bet
 reuungsplatz für unser Küken umsehen? Und woran können wir uns bei der Such
 e nach UNSERER optimalen Betreuungslösung orientieren?</p><p> </p><p>In die
 sem Vortrag bekommt ihr einen Überblick über die einzelnen Betreuungsmodell
 e, wir besprechen deren jeweiligen Vor- und Nachteile und die wichtigsten P
 unkte, auf die man bei der Wahl der richtigen Betreuungsinstitution achten 
 sollte. Auch für eure individuellen Fragen ist natürlich wie immer ausreich
 end Platz.</p></div><div id="cc-m-11862490997" class="j-module n j-text "><
 p><strong>Wann:</strong> Freitag, 11. November 2022</p><p><strong>Uhrzeit:<
 /strong> 17.30 - 19.30 Uhr<strong><br /></strong></p><p><strong>Kosten:</st
 rong> € 55,- pro Person / € 75,- pro Paar</p><p>inkl. Fachvortrag, Handout,
  Heißgetränk</p><p><strong>Expertin:</strong> Denise Winkler</p></div>
CONTACT:martina.novak@biolino.at, 067762892970
X-EXTRAINFO:[preis='5500'][anmeldung='true']
DTSTAMP:20260423T185935
DTSTART:20221111T163000
DTEND:20221111T183000
SEQUENCE:0
TRANSP:OPAQUE
END:VEVENT
END:VCALENDAR