BEGIN:VCALENDAR
VERSION:2.0
PRODID:-//jEvents 2.0 for Joomla//EN
CALSCALE:GREGORIAN
METHOD:PUBLISH
BEGIN:VEVENT
UID:5e8ac8f8fdcca6f9a3e2606d833dcceb
CATEGORIES:3. Bezirk
CREATED:19700101T010000
SUMMARY:Mama-Baby Gruppe LieblingsMAMA Treff
LOCATION:LieblingsMAMA Praxis: Apostelgasse 29-31/1/9\, 1030 Wien
DESCRIPTION:Mama-Baby Gruppe LieblingsMAMA TreffDu möchtest mit deinem Baby (0-12 Monat
 e) wieder Anschluss finden, neue Kontakte knüpfen und wünschst dir Austausc
 h mit anderen Mamas während dein Baby in entspannter Atmosphäre mit anderen
  Babys spielt? Dann bist du beim LieblingsMAMA-Treff genau richtig! In gemü
 tlicher Umgebung gibt es viel Raum für Fragen, Inputs, Tipps und alles was 
 dich in deinem Alltag momentan bewegt.\nFrühe soziale Interaktionen unterst
 ützen dein Baby beim Erlernen der Grundformen gemeinsamen Spielens, dem Erl
 eben von Sicherheit und Vertrauen bei Bezugspersonen und fördern die kindli
 che Neugierde und Entdeckungslust.\nPassend zum wöchentlich alternierenden 
 Spielthema gebe ich euch entwicklungspsychologische, fachliche Anregungen f
 ür:\n\n - Mobilitätsförderung und Bewegungsunterstützung\n\n - Berührung un
 d Bindungsstärkung\n\n - Babyspiel Materialien - einfach, sicher, kompetent
 \n\n - Babyschlaf\n\n - Säuglingshygiene\n\n - Weinen - Ursache, Umgang, Ve
 rständnis\n\n - Physische und kognitive Meilensteine (er)kennen und begleit
 en\nNeben den von mir vorgegebenen Themenschwerpunkten, gibt es viel Raum f
 ür Fragen und Themen, die dich momentan in deinem Alltag bewegen.\nJede Woc
 he widmen wir uns einem anderen, wichtigen Thema, dass dich in diesem Leben
 sabschnitt auf eine besondere Weise beschäftigt.\n\n - Schlaf\n\n - Partner
 schaft und Familiensysteme\n\n - Sexualität und Weiblichkeit\n\n - Werte un
 d Rollen\n\n - Transgenerationale Beziehungsdynamiken\n \nAls dipl. Familie
 nberaterin und Elternbildnerin für die Lebensphasen Schwangerschaft, Geburt
  und Elternschaft, lege ich großen Wert darauf, euch einen geschützten, int
 imen Rahmen zu schaffen, in dem ihr euch ungezwungen und gelöst austauschen
  könnt.\nEmpfehlung: Gegen Ende des Kurses kann ein Familiengespräch / Entw
 icklungsgespräch* in Anspruch genommen werden.\n\n* Familiengespräch / Entw
 icklungsgespräch ist in der Kursgebühr inkludiert.\n \nAnmeldung und Inform
 ation:\nhttps://www.lieblingsmama.at/spezialangebote\n
X-ALT-DESC;FMTTYPE=text/html:<div id="block-yui_3_17_2_1_1626681975367_12086" class="sqs-block html-bloc
 k sqs-block-html" data-block-type="2"><div class="sqs-block-content"><h4 st
 yle="white-space: pre-wrap;">Mama-Baby Gruppe LieblingsMAMA Treff</h4><p cl
 ass="" style="white-space: pre-wrap;">Du möchtest mit deinem Baby (0-12 Mon
 ate) wieder Anschluss finden, neue Kontakte knüpfen und wünschst dir Austau
 sch mit anderen Mamas während dein Baby in entspannter Atmosphäre mit ander
 en Babys spielt? Dann bist du beim LieblingsMAMA-Treff genau richtig! In ge
 mütlicher Umgebung gibt es viel Raum für Fragen, Inputs, Tipps und alles wa
 s dich in deinem Alltag momentan bewegt.<br />Frühe soziale Interaktionen u
 nterstützen dein Baby beim Erlernen der Grundformen gemeinsamen Spielens, d
 em Erleben von Sicherheit und Vertrauen bei Bezugspersonen und fördern die 
 kindliche Neugierde und Entdeckungslust.</p><p class="" style="white-space:
  pre-wrap;">Passend zum wöchentlich alternierenden Spielthema gebe ich euch
  entwicklungspsychologische, fachliche Anregungen für:</p><ul data-rte-list
 ="default"><li><p class="" style="white-space: pre-wrap;">Mobilitätsförderu
 ng und Bewegungsunterstützung</p></li><li><p class="" style="white-space: p
 re-wrap;">Berührung und Bindungsstärkung</p></li><li><p class="" style="whi
 te-space: pre-wrap;">Babyspiel Materialien - einfach, sicher, kompetent</p>
 </li><li><p class="" style="white-space: pre-wrap;">Babyschlaf</p></li><li>
 <p class="" style="white-space: pre-wrap;">Säuglingshygiene</p></li><li><p 
 class="" style="white-space: pre-wrap;">Weinen - Ursache, Umgang, Verständn
 is</p></li><li><p class="" style="white-space: pre-wrap;">Physische und kog
 nitive Meilensteine (er)kennen und begleiten</p></li></ul><p class="sqsrte-
 large" style="white-space: pre-wrap;"><span class="sqsrte-text-color--accen
 t"><strong>Neben den von mir vorgegebenen Themenschwerpunkten, gibt es viel
  Raum für Fragen und Themen, die dich momentan in deinem Alltag bewegen.</s
 trong></span></p><p class="" style="white-space: pre-wrap;">Jede Woche widm
 en wir uns einem anderen, wichtigen Thema, dass dich in diesem Lebensabschn
 itt auf eine besondere Weise beschäftigt.</p><ul data-rte-list="default"><l
 i><p class="" style="white-space: pre-wrap;">Schlaf</p></li><li><p class=""
  style="white-space: pre-wrap;">Partnerschaft und Familiensysteme</p></li><
 li><p class="" style="white-space: pre-wrap;">Sexualität und Weiblichkeit</
 p></li><li><p class="" style="white-space: pre-wrap;">Werte und Rollen</p><
 /li><li><p class="" style="white-space: pre-wrap;">Transgenerationale Bezie
 hungsdynamiken</p><p class="" style="white-space: pre-wrap;" data-rte-prese
 rve-empty="true"> </p></li></ul><p class="" style="white-space: pre-wrap;">
 Als dipl. Familienberaterin und Elternbildnerin für die Lebensphasen Schwan
 gerschaft, Geburt und Elternschaft, lege ich großen Wert darauf, euch einen
  geschützten, intimen Rahmen zu schaffen, in dem ihr euch ungezwungen und g
 elöst austauschen könnt.</p><h3 style="white-space: pre-wrap;"><span class=
 "sqsrte-text-color--accent">Empfehlung: </span></h3><p class="" style="whit
 e-space: pre-wrap;">Gegen Ende des Kurses kann ein Familiengespräch / Entwi
 cklungsgespräch* in Anspruch genommen werden.</p><p class="sqsrte-small" st
 yle="white-space: pre-wrap;"><span class="sqsrte-text-color--accent"><br />
 * Familiengespräch / Entwicklungsgespräch ist in der Kursgebühr inkludiert.
 </span></p><p class="sqsrte-small" style="white-space: pre-wrap;"> </p><p c
 lass="sqsrte-small" style="white-space: pre-wrap;"><span class="sqsrte-text
 -color--accent">Anmeldung und Information:<br />https://www.lieblingsmama.a
 t/spezialangebote</span></p></div></div>
CONTACT:Sabine Grasmuk-Siegl, MSc Familienberaterin, Psychologische Beraterin, https://www.lieblingsmama.at/spezialangebote
X-EXTRAINFO:[preis='15200'][anmeldung='true']
DTSTAMP:20260423T185935
DTSTART:20220930T073000
DTEND:20221028T090000
SEQUENCE:0
RRULE:FREQ=WEEKLY;UNTIL=20221029T000000Z;INTERVAL=1;BYDAY=FR
TRANSP:OPAQUE
END:VEVENT
END:VCALENDAR