BEGIN:VCALENDAR
VERSION:2.0
PRODID:-//jEvents 2.0 for Joomla//EN
CALSCALE:GREGORIAN
METHOD:PUBLISH
BEGIN:VEVENT
UID:0e4899b3e650bd579019146a8b0fa2c8
CATEGORIES:7. Bezirk
CREATED:20220817T074500
SUMMARY:Babymassage
LOCATION:1070 Wien - Mariahilfer Straße 82
DESCRIPTION:<p><strong>Babymassage Kurs in Prana Yoga Studio</strong></p><p>Im Babymass
 agekurs zeige ich dir Techniken und Griffe an einer Puppe, welche du im Ans
 chluss und unter meiner Anleitung an deinem Baby umsetzen kannst. In einer 
 entspannten und stressfreien Atmosphäre erlernst du die Ganzkörpermassage f
 ür Babys, wir beschäftigen uns auch mit der Kolikmassage, besseren Babyschl
 af, sowie Entspannungstechniken für Eltern und Kind. Du lernst die Signale 
 deines Babys besser zu lesen und dessen Bedürfnisse zu verstehen.</p><p>Bab
 ymassagekurse eignen sich für Babys ab der 6. Lebenswoche (bzw sobald der N
 abel abgeheilt ist) bis etwa zum Krabbelalter, bei Frühchen und Kindern mit
  besonderen Bedürfnissen je nach Entwicklungsstand des Kindes.</p><p>Der re
 spektvolle Umgang und die Bedürfnisse eurer Babys stehen immer an oberster 
 Stelle, die aktive Massagezeit richtet sich nach euch und euren Kind, es st
 eht immer ausreichend Zeit für Stillen, Wickeln und Kuscheln zur Verfügung.
  Ihr könnt ganz in Ruhe ankommen und eine unbeschwerte, entspannte, gemeins
 ame Zeit verbringen.</p><p>Der Babymassagekurs umfasst 4 Termine, welche ei
 nmal wöchentlich statt finden. Beim ersten Termin erhältst du ausführliche 
 Unterlagen in denen alle Griffe nochmals genau erklärt sind, sowie ein geei
 gnetes Babymassage Öl.</p><p>Für Nähere Informationen sowie Anmeldung:</p><
 p>for little ones - Susanne Pinkhart </p><p> </p><p><a href="http://www.for
 -little-ones.com/">www.for-little-ones.com</a></p><p>0680 158 26 48</p><p>o
 ffice@for-little-ones.com</p><p> </p>
CONTACT:Susanne Pinkhart
X-EXTRAINFO:[preis='9000'][anmeldung='true']
DTSTAMP:20260423T111651
DTSTART:20221011T080000
DTEND:20221011T090000
SEQUENCE:0
TRANSP:OPAQUE
END:VEVENT
END:VCALENDAR