BEGIN:VCALENDAR
VERSION:2.0
PRODID:-//jEvents 2.0 for Joomla//EN
CALSCALE:GREGORIAN
METHOD:PUBLISH
BEGIN:VEVENT
UID:21a2987456541914c2533ed28570a855
CATEGORIES:18. Bezirk
CREATED:20220818T105146
SUMMARY:Mini-Atelier (1-3J.)
LOCATION:Mal-Atelier Gersthof\, Gersthofer Str. 128
DESCRIPTION:<div class="contentgroup__heading   "><h4>Atelier für Minis (1 - 3 Jahre) m
 it Begleitperson</h4></div><div class="contentgroup__body  "><p>Hier dürfen
  sich die Kleinsten ausprobieren: Kreiden, Fingerfarben,  Stempel, Walzen u
 nd Pinsel stehen zur Verfügung. Es darf bunt werden! </p><p><i>Bitte Wechse
 lgewand mitbringen.</i></p><p><a href="http://www.mal-atelier.at">www.mal-a
 telier.at</a> </p></div>
CONTACT:info@mal-atelier.at
X-EXTRAINFO:[preis='1500'][anmeldung='true']
DTSTAMP:20260423T123527
DTSTART:20220826T080000
DTEND:20220826T090000
SEQUENCE:0
TRANSP:OPAQUE
END:VEVENT
END:VCALENDAR