BEGIN:VCALENDAR
VERSION:2.0
PRODID:-//jEvents 2.0 for Joomla//EN
CALSCALE:GREGORIAN
METHOD:PUBLISH
BEGIN:VEVENT
UID:c500d1f332c787acea9bc586756b498d
CATEGORIES:18. Bezirk
CREATED:20220818T111916
SUMMARY:Flohmarkt
LOCATION:Mal-Atelier Gersthof\, Gersthofer Str. 128
DESCRIPTION:<p>Spielzeug, Bücher, Kindersachen (v.a. für 0-3 Jährige)</p><p> </p><p>Ein
 fach vorbeikommen und Stöbern!</p>
CONTACT:0677-63820944
DTSTAMP:20260425T122030
DTSTART:20220829T080000
DTEND:20220829T100000
SEQUENCE:0
TRANSP:OPAQUE
END:VEVENT
END:VCALENDAR