BEGIN:VCALENDAR
VERSION:2.0
PRODID:-//jEvents 2.0 for Joomla//EN
CALSCALE:GREGORIAN
METHOD:PUBLISH
BEGIN:VEVENT
UID:c21eeb85cf63547a571303cb93d63888
CATEGORIES:1. Bezirk
CREATED:20220818T114103
SUMMARY:Workshop rund ums Tragen
LOCATION:Stephansplatz 4\, 1010 Wien
DESCRIPTION:Der Wunsch nach Nähe ist ein Grundbedürfnis und gleichzeitig das größte Ges
 chenk \nIn der schönsten Location Wiens mit Blick auf den Stephansdom lerns
 t du alles rund um das Thema tragen, du kannst verschiedenen Tragesysteme, 
 Tragetücher und RingSlings angreifen und ausprobieren. \n \nWarum tragen? -
  Stell dir folgendes vor\n9 Monaten auf engstem Raum, jede Bewegung ist nur
  eingeschränkt möglich, eine Einschränkung die unendlich viel Sicherheit gi
 bt. Eingekuschelt wird man ständig sanft geschaukelt, begleitet von vertrau
 ten Geräuschen und Stimmen, den Herzschlag des wichtigsten Menschen Tag und
  Nacht hörend - DAS ist pure Geborgenheit, Wohlfühlen und Sicherheit.\nKann
  es etwas schöneres geben als dieses Gefühl auch nach der Geburt noch erleb
 en zu dürfen? Die Körperwärme des liebsten Menschen spüren, weiterhin den s
 o beruhigenden Herzschlag hören und jedes Ein und Ausatmen verfolgen zu kön
 nen.\n \nDer Workshop findet in zwei Terminen zu jeweils einer Stunde statt
 :\n1. Workshop - 09.09.2022 + 23.09.2022, jeweils von 10:00 - 11:30\n2. Wor
 kshop - 10.10.2022 + 17.10.2022, jeweils von 10:00 - 11:30\n \nAnmeldung un
 ter\nSusanne Pinkhart\n0680 158 26 48\nZur Homepage (http://www.for-little-
 ones.com/)\noffice@for-little-ones.com\n \n
X-ALT-DESC;FMTTYPE=text/html:<p style="text-align: center;"><strong>Der Wunsch nach Nähe ist ein Grundbe
 dürfnis und gleichzeitig das größte Geschenk</strong> </p><p style="text-al
 ign: justify;">In der schönsten Location Wiens mit Blick auf den Stephansdo
 m lernst du alles rund um das Thema tragen, du kannst verschiedenen Tragesy
 steme, Tragetücher und RingSlings angreifen und ausprobieren. </p><p style=
 "text-align: justify;"> </p><p style="text-align: justify;"><strong>Warum t
 ragen?</strong> - Stell dir folgendes vor</p><p style="text-align: center;"
 ><em>9 Monaten auf engstem Raum, jede Bewegung ist nur eingeschränkt möglic
 h, eine Einschränkung die unendlich viel Sicherheit gibt. Eingekuschelt wir
 d man ständig sanft geschaukelt, begleitet von vertrauten Geräuschen und St
 immen, den Herzschlag des wichtigsten Menschen Tag und Nacht hörend - DAS i
 st pure Geborgenheit, Wohlfühlen und Sicherheit.</em></p><p style="text-ali
 gn: center;"><em>Kann es etwas schöneres geben als dieses Gefühl auch nach 
 der Geburt noch erleben zu dürfen? Die Körperwärme des liebsten Menschen sp
 üren, weiterhin den so beruhigenden Herzschlag hören und jedes Ein und Ausa
 tmen verfolgen zu können.</em></p><p style="text-align: center;"> </p><p st
 yle="text-align: justify;">Der Workshop findet in zwei Terminen zu jeweils 
 einer Stunde statt:</p><p style="text-align: justify; padding-left: 30px;">
 1. Workshop - 09.09.2022 + 23.09.2022, jeweils von 10:00 - 11:30</p><p styl
 e="text-align: justify; padding-left: 30px;">2. Workshop - 10.10.2022 + 17.
 10.2022, jeweils von 10:00 - 11:30</p><p style="text-align: justify; paddin
 g-left: 30px;"> </p><p>Anmeldung unter</p><p>Susanne Pinkhart</p><p>0680 15
 8 26 48</p><p><a href="http://www.for-little-ones.com/">Zur Homepage</a></p
 ><p>office@for-little-ones.com</p><p style="text-align: justify; padding-le
 ft: 30px;"> </p>
CONTACT:Susanne Pinkhart
X-EXTRAINFO:[preis='6500'][anmeldung='true']
DTSTAMP:20260423T155225
DTSTART:20221017T080000
DTEND:20221017T093000
SEQUENCE:0
TRANSP:OPAQUE
END:VEVENT
END:VCALENDAR