BEGIN:VCALENDAR
VERSION:2.0
PRODID:-//jEvents 2.0 for Joomla//EN
CALSCALE:GREGORIAN
METHOD:PUBLISH
BEGIN:VEVENT
UID:4b6c1ad6d1f599b7fe9e7af955dfafa8
CATEGORIES:21. Bezirk
CREATED:19700101T010000
SUMMARY:Spielgruppe
LOCATION:1221 Wien
DESCRIPTION:von 8 Monate  - 1,5 Jahre / www.littlesuns.at (http://www.littlesuns.at)\n
X-ALT-DESC;FMTTYPE=text/html:<p>von 8 Monate  - 1,5 Jahre / <a href="http://www.littlesuns.at">www.littl
 esuns.at</a></p>
CONTACT:06645274715
X-EXTRAINFO:[preis='000'][anmeldung='true']
DTSTAMP:20260423T094334
DTSTART:20220919T070000
DTEND:20221017T083000
SEQUENCE:0
RRULE:FREQ=WEEKLY;UNTIL=20221220T000000Z;INTERVAL=15;BYDAY=MO
TRANSP:OPAQUE
END:VEVENT
END:VCALENDAR