BEGIN:VCALENDAR
VERSION:2.0
PRODID:-//jEvents 2.0 for Joomla//EN
CALSCALE:GREGORIAN
METHOD:PUBLISH
BEGIN:VEVENT
UID:959cef1dc36be47e9c91f0938aca77ce
CATEGORIES:21. Bezirk
CREATED:20220821T102430
SUMMARY:Mutter/Kind/yoga
DESCRIPTION:3 - 6 /www.littlesuns.at (http://www.littlesuns.at)\n
X-ALT-DESC;FMTTYPE=text/html:<p>3 - 6 /<a href="http://www.littlesuns.at">www.littlesuns.at</a></p>
DTSTAMP:20260423T094332
DTSTART:20220926T130000
DTEND:20220926T140000
SEQUENCE:0
TRANSP:OPAQUE
END:VEVENT
END:VCALENDAR