BEGIN:VCALENDAR
VERSION:2.0
PRODID:-//jEvents 2.0 for Joomla//EN
CALSCALE:GREGORIAN
METHOD:PUBLISH
BEGIN:VEVENT
UID:8d993e37546d09e42e57716e12f4cf7f
CATEGORIES:21. Bezirk
CREATED:19700101T010000
SUMMARY:Mama/Baby/Yoga
LOCATION:1210 Wien
DESCRIPTION:<p>Mama/Baby / Yoga /<a href="http://www.littlesuns.at">www.littlesuns.at</
 a></p>
CONTACT:06645274715
X-EXTRAINFO:[preis='000'][anmeldung='true']
DTSTAMP:20260423T162928
DTSTART:20220930T090000
DTEND:20220930T101500
SEQUENCE:0
RRULE:FREQ=WEEKLY;UNTIL=20221029T000000Z;INTERVAL=5;BYDAY=FR
TRANSP:OPAQUE
END:VEVENT
END:VCALENDAR