BEGIN:VCALENDAR
VERSION:2.0
PRODID:-//jEvents 2.0 for Joomla//EN
CALSCALE:GREGORIAN
METHOD:PUBLISH
BEGIN:VEVENT
UID:9b287b73cc51d9461f0fadddbef4fa16
CATEGORIES:7. Bezirk
CREATED:19700101T010000
SUMMARY:Mentale Geburtsvorbereitung 
LOCATION:Nanaya\, Zollergasse 37\, 1070 Wien
DESCRIPTION:Positive Birth® Mentale Geburtsvorbereitung\n \nIn 4 Einheiten mit maximal 
 4 Kursteilnehmerinnen erfährst du, was DU für deine selbstbestimmte Geburt 
 brauchst und welche mentale Techniken dich während Schwangerschaft, Geburt 
 und Wochenbett unterstützen können. Durch Entspannungstechniken können du u
 nd Baby schon in der Schwangerschaft engen Kontakt aufzunehmen. Erfahre, wa
 s du benötigst um der Geburt voller Zuversicht und Vertrauen entgegen zu bl
 icken. Denn diese besondere Zeit rund um die Geburt deines Babys begleitet 
 dich dein ganzes Leben.\n \nSonntags von 09:30 – 12:30 am 25.9. &amp; 9.10.
  sowie von 13:30 - 16:30 am 2.10. und 16.10.\n \nDer Kurs findet im 7. Bezi
 rk im Nanaya statt.\n \nWeitere Infos findest du unter www.deinherzensweg.a
 t\n \n
X-ALT-DESC;FMTTYPE=text/html:<p><strong>Positive Birth<sup>®</sup> Mentale Geburtsvorbereitung</strong><
 /p><p> </p><p>In 4 Einheiten mit maximal 4 Kursteilnehmerinnen erfährst du,
  was DU für deine selbstbestimmte Geburt brauchst und welche mentale Techni
 ken dich während Schwangerschaft, Geburt und Wochenbett unterstützen können
 . Durch Entspannungstechniken können du und Baby schon in der Schwangerscha
 ft engen Kontakt aufzunehmen. Erfahre, was du benötigst um der Geburt volle
 r Zuversicht und Vertrauen entgegen zu blicken. Denn diese besondere Zeit r
 und um die Geburt deines Babys begleitet dich dein ganzes Leben.</p><p> </p
 ><p>Sonntags von 09:30 – 12:30 am 25.9. &amp; 9.10. sowie von 13:30 - 16:30
  am 2.10. und 16.10.</p><p> </p><p>Der Kurs findet im 7. Bezirk im Nanaya s
 tatt.</p><p> </p><p>Weitere Infos findest du unter www.deinherzensweg.at</p
 ><p> </p>
CONTACT:Verena Gaigg, MSc MA, Positive Birth Trainerin www.deinherzensweg.at
X-EXTRAINFO:[preis='32000'][anmeldung='true']
DTSTAMP:20260423T165509
DTSTART:20220925T073000
DTEND:20221016T143000
SEQUENCE:0
RRULE:FREQ=WEEKLY;UNTIL=20221017T000000Z;INTERVAL=4;BYDAY=SU
TRANSP:OPAQUE
END:VEVENT
END:VCALENDAR