BEGIN:VCALENDAR
VERSION:2.0
PRODID:-//jEvents 2.0 for Joomla//EN
CALSCALE:GREGORIAN
METHOD:PUBLISH
BEGIN:VEVENT
UID:14c5ea104a856b9d6154b52bc2034527
CATEGORIES:3. Bezirk
CREATED:19700101T010000
SUMMARY:Austausch- und Vorbereitungsgruppe Schwangerentreff
LOCATION:LieblingsMAMA Praxis: Apostelgasse 29-31/1/9\, 1030 Wien
DESCRIPTION:<p class="" style="white-space: pre-wrap;">Du bist schwanger und wünschst d
 ir neue Kontakte &amp; Austausch mit anderen Bald-Mamis? <br />Dann bist du
  bei LieblingsMAMA genau richtig!</p><p class="" style="white-space: pre-wr
 ap;">In gemütlicher Atmosphäre gibt es viel Raum für Fragen, Inputs, Tipps 
 und alles was dich momentan bewegt sowie wöchentlich wechselnde Themenschwe
 rpukte zur Vorbereitung auf Geburt und Elternschaft.</p><p class="" style="
 white-space: pre-wrap;">Über mehrere Wochen hinweg, begleite ich euch einfü
 hlsam durch eure Schwangerschaft. Ich als Mama und Familienberaterin lege g
 roßen Wert darauf, euch einen geschützten, intimen Rahmen zu schaffen, in d
 em all eure Sorgen, Fragen, Ängste und Vorfreuden Platz finden.</p><p class
 ="" style="white-space: pre-wrap;">Du erhältst Anregungen und fundiertes Fa
 chwissen zu folgenden Themen:</p><ul data-rte-list="default"><li><p class="
 " style="white-space: pre-wrap;">Auseinandersetzung mit persönlichen Vorste
 llungen, Werten und Wünschen in Bezug auf das Mamawerden und den Umgang mit
  deinem Baby</p></li><li><p class="" style="white-space: pre-wrap;">Wichtig
 e Zusammenhänge für die Geburt</p></li><li><p class="" style="white-space: 
 pre-wrap;">Gebärpositionen und geburtsfördernde Atmung</p></li><li><p class
 ="" style="white-space: pre-wrap;">Visualisierung deiner Vorstellungen und 
 Wünsche in Bezug auf deine selbstbestimmte Geburt</p></li><li><p class="" s
 tyle="white-space: pre-wrap;">Wissenswertes sowie stärkende und entspannde 
 Ansätze für Geburt und Wochenbett</p></li><li><p class="" style="white-spac
 e: pre-wrap;">Bonding und Bezugspersonen</p></li><li><p class="" style="whi
 te-space: pre-wrap;">Babyernährung</p></li><li><p class="" style="white-spa
 ce: pre-wrap;">Partnerschaft</p></li><li><p class="" style="white-space: pr
 e-wrap;">Sexualität</p></li><li><p class="" style="white-space: pre-wrap;">
 Familiendynamiken</p></li></ul><p class="" style="white-space: pre-wrap;" d
 ata-rte-preserve-empty="true"> </p><h3 style="white-space: pre-wrap;"><span
  class="sqsrte-text-color--accent">Empfehlung</span></h3><p class="" style=
 "white-space: pre-wrap;">Die letzte Einheit kann als Partner-Einheit in Ans
 pruch genommen werden. <br /><strong>Dein/e PartnerIn ist zur Abschlusseinh
 eit sehr herzlich eingeladen!</strong></p><p class="sqsrte-small" style="wh
 ite-space: pre-wrap;"><span class="sqsrte-text-color--accent">*Die Partner-
 Einheit ist in der Kursgebühr inkludiert. Es fallen für dein/e PartnerIn wä
 hrend der Abschlusseinheit keine weiteren Kosten an.</span></p><h3 style="w
 hite-space: pre-wrap;"><span class="sqsrte-text-color--accent">On Top</span
 ></h3><p class="" style="white-space: pre-wrap;">Du erhältst außerdem eine 
 umfangreiche Zusammenstellung wichtiger Inhalte, sowie Checklisten und beso
 ndere Anregungen.</p><p class="" style="white-space: pre-wrap;"> </p><p cla
 ss="" style="white-space: pre-wrap;">Info und Anmeldung: https://www.liebli
 ngsmama.at/spezialangebote</p><p class="" style="white-space: pre-wrap;"> <
 /p><p class="" style="white-space: pre-wrap;">Wann:</p><p class="sqsrte-lar
 ge" style="white-space: pre-wrap;">11. 10.2022 - 15.11.2022, <br />dienstag
 s 09:30-11.00 Uhr</p><p class="" style="white-space: pre-wrap;">(Am 1.11.20
 22 findet KEINE Einheit statt!)</p>
CONTACT:Sabine Grasmuk-Siegl, MSc Familienberaterin, Psychologische Beraterin, https://www.lieblingsmama.at/spezialangebote
X-EXTRAINFO:[preis='16100'][anmeldung='true']
DTSTAMP:20260423T144459
DTSTART:20221011T073000
DTEND:20221115T100000
SEQUENCE:0
RRULE:FREQ=WEEKLY;UNTIL=20221116T000000Z;INTERVAL=1;BYDAY=TU
TRANSP:OPAQUE
END:VEVENT
END:VCALENDAR