BEGIN:VCALENDAR
VERSION:2.0
PRODID:-//jEvents 2.0 for Joomla//EN
CALSCALE:GREGORIAN
METHOD:PUBLISH
BEGIN:VEVENT
UID:185d704c550b548a270d434a10d90f9e
CATEGORIES:2. Bezirk
CREATED:20220823T134313
SUMMARY:Schlaf, Kindlein schlaf - Vortrag ONLINE
LOCATION:ONLINE Kind&amp;Kegel Eltern-Kind-Zentrum 1020\, Praterstraße 14/8
DESCRIPTION:Schlaf, Kindlein, Schlaf!\n„Und, schläft es schon durch?“ Kaum eine Familie
  wird nicht bereits kurz nach der Geburt mit den gesellschaftlichen Erwartu
 ngen, wo und wie ein Baby schlafen solle, konfrontiert. Kein Wunder also, d
 ass Babyschlaf häufig ein Reizthema ist.\nZehrende Schlafsituationen belast
 en uns als Eltern und das gesamte Familiensystem. In diesem Vortrag beschäf
 tigen wir uns mit Hintergrundinformationen zu physiologischen Aspekten des 
 Schlafs und zur Schlafentwicklung, sowie mit Schlaf und Bindung. Desweitere
 n nehmen wir Ammenmärchen unter die Lupe und werfen einen Blick auf verschi
 edene Lösungsansätze.\n \nModus: online\nTermine: Dienstag, 29.11., 19:00 -
  20:00\n \nVortragende: Mag. Viktoria Kindermann, Psychologin, Pädagogin, S
 chlafberaterin nach 1001 (tel:+431001)kindernacht (R), 4fache Mama\n
X-ALT-DESC;FMTTYPE=text/html:<p>Schlaf, Kindlein, Schlaf!</p><p>„Und, schläft es schon durch?“ Kaum eine
  Familie wird nicht bereits kurz nach der Geburt mit den gesellschaftlichen
  Erwartungen, wo und wie ein Baby schlafen solle, konfrontiert. Kein Wunder
  also, dass Babyschlaf häufig ein Reizthema ist.</p><p>Zehrende Schlafsitua
 tionen belasten uns als Eltern und das gesamte Familiensystem. In diesem Vo
 rtrag beschäftigen wir uns mit Hintergrundinformationen zu physiologischen 
 Aspekten des Schlafs und zur Schlafentwicklung, sowie mit Schlaf und Bindun
 g. Desweiteren nehmen wir Ammenmärchen unter die Lupe und werfen einen Blic
 k auf verschiedene Lösungsansätze.</p><p> </p><p><strong>Modus: online</str
 ong></p><p>Termine: Dienstag, 29.11., 19:00 - 20:00</p><p> </p><p>Vortragen
 de: Mag. Viktoria Kindermann, Psychologin, Pädagogin, Schlafberaterin nach 
 <a href="https://babymamas.at/tel:+431001">1001</a>kindernacht (R), 4fache 
 Mama</p>
CONTACT:01 503 71 88, info@kind-und-kegel.at, www.kind-und-kegel.at
X-EXTRAINFO:[preis='2300'][anmeldung='true']
DTSTAMP:20260423T155241
DTSTART:20221129T180000
DTEND:20221129T190000
SEQUENCE:0
TRANSP:OPAQUE
END:VEVENT
END:VCALENDAR