BEGIN:VCALENDAR
VERSION:2.0
PRODID:-//jEvents 2.0 for Joomla//EN
CALSCALE:GREGORIAN
METHOD:PUBLISH
BEGIN:VEVENT
UID:31a58885b59ef51cbd597dd361c94fc3
CATEGORIES:7. Bezirk
CREATED:20220824T033815
SUMMARY:Sommer-Klang (4-18 Monate)
LOCATION:Zieglergasse 66\, 1070 Wien
DESCRIPTION:www.bauch-klang.at (http://www.bauch-klang.at)\n"Musikgarten für Baby´im Al
 ter von 4-18 Monate"\nWir begrüßen uns mit einem Kniereiter. Singen, musizi
 eren mit unseren Rasseln.\nBewegen uns tanzend im Raum - ganz speziell habe
  ich einen Gast eingeladen!\nConstanze spiel für uns auf Ihrer Violine und 
 verwöhnt uns mit den Klang des wunderbaren Streichinstrument ?\nAm 30.08.20
 22 um 13:45 starten wir los!\n \nWo: Zieglergasse 66, 1070 Wien\nWann: 30. 
 August 2022\nZeit: 13:45-14:30\nDauer: 45min.\nKostenbeitrag: 18,- Euro\n \
 nAnmeldung unter:\n0660 29 66 266\ntermin@bauch-klang.at (mailto:termin@bau
 ch-klang.at)\n \nWir freuen uns auf DICH!\nAlles liebe, Constanze &amp; Bar
 bara\n \n \n \n
X-ALT-DESC;FMTTYPE=text/html:<p><a href="http://www.bauch-klang.at">www.bauch-klang.at</a></p><p><em><st
 rong>"Musikgarten für Baby´im Alter von 4-18 Monate"</strong></em></p><p>Wi
 r begrüßen uns mit einem Kniereiter. Singen, musizieren mit unseren Rasseln
 .</p><p>Bewegen uns tanzend im Raum - ganz speziell habe ich einen Gast ein
 geladen!</p><p>Constanze spiel für uns auf Ihrer Violine und verwöhnt uns m
 it den Klang des wunderbaren Streichinstrument ?</p><p>Am <strong>30.08.202
 2</strong> um <strong>13:45</strong> starten wir los!</p><p> </p><p><strong
 >Wo:</strong> Zieglergasse 66, 1070 Wien</p><p><strong>Wann:</strong> 30. A
 ugust 2022</p><p><strong>Zeit:</strong> 13:45-14:30</p><p><strong>Dauer:</s
 trong> 45min.</p><p><strong>Kostenbeitrag:</strong> 18,- Euro</p><p> </p><p
 >Anmeldung unter:</p><p><strong>0660 29 66 266</strong></p><p><strong><a hr
 ef="mailto:termin@bauch-klang.at">termin@bauch-klang.at</a></strong></p><p>
  </p><p><strong>Wir freuen uns auf DICH!</strong></p><p>Alles liebe, Consta
 nze &amp; Barbara</p><p> </p><p> </p><p> </p>
CONTACT:0660 29 66 266  oder termin@bauch-klang.at
X-EXTRAINFO:[preis='1800'][anmeldung='false']
DTSTAMP:20260423T184205
DTSTART:20220830T114500
DTEND:20220830T123000
SEQUENCE:0
TRANSP:OPAQUE
END:VEVENT
END:VCALENDAR