BEGIN:VCALENDAR
VERSION:2.0
PRODID:-//jEvents 2.0 for Joomla//EN
CALSCALE:GREGORIAN
METHOD:PUBLISH
BEGIN:VEVENT
UID:9b147da1f98a081adeb73a05a42ef7fb
CATEGORIES:7. Bezirk
CREATED:20220824T034118
SUMMARY:Sommer-Klang (1 -3 Jahre)
LOCATION:Zieglergasse 66\, 1070 Wien
DESCRIPTION:<p><a href="http://www.bauch-klang.at">www.bauch-klang.at</a></p><p><em><st
 rong>"Musikgarten für Baby´im Alter von 1-3 Jahre"</strong></em></p><p>Wir 
 begrüßen uns mit einem Kniereiter. Singen, musizieren mit unseren Rasseln.<
 /p><p>Bewegen uns tanzend im Raum - ganz speziell habe ich einen Gast einge
 laden!</p><p>Constanze spiel für uns auf Ihrer Violine und verwöhnt uns mit
  den Klang des wunderbaren Streichinstrument ?</p><p>Am <strong>30.08.2022<
 /strong> um <strong>15:30</strong> starten wir los!</p><p>Danach findet ein
 e gemütliche Jausen-Runde statt.</p><p> </p><p><strong>Wo:</strong> Ziegler
 gasse 66, 1070 Wien</p><p><strong>Wann:</strong> 30. August 2022</p><p><str
 ong>Zeit:</strong> 15:30-16:45</p><p><strong>Dauer:</strong> 75min.</p><p><
 strong>Kostenbeitrag:</strong> 18,- Euro</p><p> </p><p>Anmeldung unter:</p>
 <p><strong>0660 29 66 266</strong></p><p><strong><a href="mailto:termin@bau
 ch-klang.at">termin@bauch-klang.at</a></strong></p><p> </p><p><strong>Wir f
 reuen uns auf DICH!</strong></p><p>Alles liebe, Constanze &amp; Barbara</p>
 <p> </p><p> </p><p> </p>
CONTACT:0660 29 66 266  oder termin@bauch-klang.at
X-EXTRAINFO:[preis='1800'][anmeldung='false']
DTSTAMP:20260423T155613
DTSTART:20220830T133000
DTEND:20220830T144500
SEQUENCE:0
TRANSP:OPAQUE
END:VEVENT
END:VCALENDAR