BEGIN:VCALENDAR
VERSION:2.0
PRODID:-//jEvents 2.0 for Joomla//EN
CALSCALE:GREGORIAN
METHOD:PUBLISH
BEGIN:VEVENT
UID:7ec58c44922f4507a7f8a517b95d757b
CATEGORIES:7. Bezirk
CREATED:20220824T035004
SUMMARY:Öle für Baby´& Kinder  (Workshop)
LOCATION:Zieglergasse 66\, 1070 Wien
DESCRIPTION:<p><a href="http://www.bauch-klang.at">www.bauch-klang.at</a></p><p>"Öle fü
 r Babies &amp; Kinder"</p><p>Bei Kinder können ätherische Öle sanfte, altbe
 wahrte Helfer aus der Natur bei körperlichen &amp; emotionalen Themen unter
 stützend sein!</p><p>Gemeinsam kreieren wir Deine persönliche Ölmischung fü
 r Dich und dein Liebling, die für Euch einen Mehrwert bietet.</p><p>Am <str
 ong>30.08.2022</strong> um <strong>14:30</strong> starten wir los!</p><p> <
 /p><p><strong>Wo:</strong> Zieglergasse 66, 1070 Wien</p><p><strong>Wann:</
 strong> 30. August 2022</p><p><strong>Zeit:</strong> 14:30-15:30</p><p><str
 ong>Dauer:</strong> 60min.</p><p><strong>Kostenbeitrag:</strong> 5,- Euro</
 p><p> </p><p>Anmeldung unter:</p><p><strong>0660 29 66 266</strong></p><p><
 strong><a href="mailto:termin@bauch-klang.at">termin@bauch-klang.at</a></st
 rong></p><p> </p><p><strong>Wir freuen uns auf DICH!</strong></p><p>Alles l
 iebe, Tamara &amp; Barbara</p><p> </p><p> </p><p> </p>
CONTACT:0660 29 66 266  oder termin@bauch-klang.at
X-EXTRAINFO:[preis='1800'][anmeldung='false']
DTSTAMP:20260423T144730
DTSTART:20220830T123000
DTEND:20220830T133000
SEQUENCE:0
TRANSP:OPAQUE
END:VEVENT
END:VCALENDAR