BEGIN:VCALENDAR
VERSION:2.0
PRODID:-//jEvents 2.0 for Joomla//EN
CALSCALE:GREGORIAN
METHOD:PUBLISH
BEGIN:VEVENT
UID:6db8de9bdd274d5b1df63a70566c66e7
CATEGORIES:15. Bezirk
CREATED:20220824T090626
SUMMARY:Mit Baby ins Konzert | ensemble freymut
LOCATION:brick-15
DESCRIPTION:<p class="bigger"><strong>Entspannte Konzerte für Eltern mit Babys von 0 bi
 s 1 Jahren</strong></p><p>Musik macht nicht nur Eltern, sondern auch Babys 
 glücklich. Töne und Rhythmen fördern ihre Entwicklung. Außerdem bekommen El
 tern von Neugeborenen selten die Gelegenheit, Konzerte zu besuchen. Mit Bab
 y ins Konzert ist ein Treffpunkt für Eltern mit ihren Babys, um im entspann
 ten Ambiente Konzerte im sonnendurchfluteten Saal und mit angenehmer Lautst
 ärke schon vormittags zu genießen. Den Auftakt macht das junge ensemble fre
 ymut: Mit Traversflöten, Viola da gamba und Cembalo wandelt das Featured En
 semble der Jeunesse 2022 | 23 auf den Spuren berühmter Komponisten des Baro
 ck und gestaltet einen unvergesslichen Abend mit musikalischen Juwelen des 
 17. und 18. Jahrhunderts. </p><p><em><a href="https://www.jeunesse.at/progr
 amm/veranstaltungsdetails/mit-baby-ins-konzert-ensemble-freymut">Tickets &a
 mp; Info</a></em></p><p><em>Dauer: ca.45 Minuten<br />Freie Platzwahl</em><
 /p>
CONTACT:https://www.jeunesse.at/programm/veranstaltungsdetails/mit-baby-ins-konzert-ensemble-freymut
X-EXTRAINFO:[preis='2400'][anmeldung='true']
DTSTAMP:20260423T082604
DTSTART:20221019T080000
DTEND:20221019T084500
SEQUENCE:0
TRANSP:OPAQUE
END:VEVENT
END:VCALENDAR