BEGIN:VCALENDAR
VERSION:2.0
PRODID:-//jEvents 2.0 for Joomla//EN
CALSCALE:GREGORIAN
METHOD:PUBLISH
BEGIN:VEVENT
UID:04478cc05b1466a57658ca9dca3cd3ca
CATEGORIES:15. Bezirk
CREATED:20220824T091007
SUMMARY:Mit Baby ins Konzert | AUREUM Saxophon Quartett
LOCATION:brick-15
DESCRIPTION:<div class="d-block my-3"><h2>Interpreten</h2><ul><li><strong>AUREUM Saxoph
 on Quartett</strong> Saxophonquartett</li><li><strong>Martina Stückler</str
 ong> Sopransaxophon</li><li><strong>Johannes Weichinger</strong> Altsaxopho
 n</li><li><strong>Viola Jank</strong> Tenorsaxophon</li><li><strong>Lukas S
 eifried</strong> Baritonsaxophon</li></ul></div><div class="d-block my-3"><
 h2>Programm</h2><ul><li>»Golden Roots«</li><li><strong>Florian Bramböck</st
 rong> Bramboracky-Marsch</li><li><strong>Edvard Grieg</strong> Aus Holbergs
  Zeit / Suite op. 40 für Streichorchester</li><li>(I. Prélude. Allegro viva
 ce, II. Sarabande, Andante, V. Rigaudon. Allegro con brio)</li><li>(Bearbei
 tung von Maarten Jense)</li><li><strong>Gerald Resch</strong> Grid für Saxo
 phonquartett</li><li>(II. Semplice con fantasia, V. Etereo, VI. Con brio)</
 li><li><strong>Jule Styne</strong> Let it Snow!</li><li>(Bearbeitung Nico D
 ezaire &amp; Peter Kleine Schaars)</li><li><strong>Anonymus</strong> Weinga
 lopp</li><li>(Bearbeitung AUREUM Saxophon Quartett)</li><li><strong>Anonymu
 s</strong> Meraner Jodler, Steirer, Ischler Schleuniger / Traditionell</li>
 <li>(Bearbeitung von Rudi Pietsch)</li><li><strong>Steven Verhelst</strong>
  A Song for Japan</li><li>(Bearbeitung von Tetsuya Watanabe)</li><li><stron
 g>Astor Piazzolla</strong> Libertango</li><li>(Bearbeitung AUREUM Saxophon 
 Quartett)</li><li><strong>Chick Corea</strong> Spain</li><li>(Bearbeitung v
 on Philip Marillia)</li></ul></div><div class="d-block mt-5 mb-3"><p class=
 "bigger">Entspannte Konzerte für Eltern mit Babys von 0 bis 1 Jahren.</p><p
  class="bigger">Musik macht nicht nur Eltern, sondern auch Babys glücklich.
  Töne und Rhythmen fördern ihre Entwicklung. Außerdem bekommen Eltern von N
 eugeborenen selten die Gelegenheit, Konzerte zu besuchen. Mit Baby ins Konz
 ert ist ein Treffpunkt für Eltern mit ihren Babys, um im entspannten Ambien
 te Konzerte im sonnendurchfluteten Saal und mit angenehmer Lautstärke schon
  vormittags zu genießen. </p><p class="bigger"><strong><a href="Interpreten
  AUREUM Saxophon Quartett Saxophonquartett Martina Stückler Sopransaxophon 
 Johannes Weichinger Altsaxophon Viola Jank Tenorsaxophon Lukas Seifried Bar
 itonsaxophon Programm »Golden Roots« Florian Bramböck Bramboracky-Marsch Ed
 vard Grieg Aus Holbergs Zeit / Suite op. 40 für Streichorchester (I. Prélud
 e. Allegro vivace, II. Sarabande, Andante, V. Rigaudon. Allegro con brio) (
 Bearbeitung von Maarten Jense) Gerald Resch Grid für Saxophonquartett (II. 
 Semplice con fantasia, V. Etereo, VI. Con brio) Jule Styne Let it Snow! (Be
 arbeitung Nico Dezaire &amp; Peter Kleine Schaars) Anonymus Weingalopp (Bea
 rbeitung AUREUM Saxophon Quartett) Anonymus Meraner Jodler, Steirer, Ischle
 r Schleuniger / Traditionell (Bearbeitung von Rudi Pietsch) Steven Verhelst
  A Song for Japan (Bearbeitung von Tetsuya Watanabe) Astor Piazzolla Libert
 ango (Bearbeitung AUREUM Saxophon Quartett) Chick Corea Spain (Bearbeitung 
 von Philip Marillia) Entspannte Konzerte für Eltern mit Babys von 0 bis 1 J
 ahren">Tickets &amp; Info</a> </strong></p></div>
X-ALT-DESC;FMTTYPE=text/html:<div class="d-block my-3"><h2>Interpreten</h2><ul><li><strong>AUREUM Saxoph
 on Quartett</strong> Saxophonquartett</li><li><strong>Martina Stückler</str
 ong> Sopransaxophon</li><li><strong>Johannes Weichinger</strong> Altsaxopho
 n</li><li><strong>Viola Jank</strong> Tenorsaxophon</li><li><strong>Lukas S
 eifried</strong> Baritonsaxophon</li></ul></div><div class="d-block my-3"><
 h2>Programm</h2><ul><li>»Golden Roots«</li><li><strong>Florian Bramböck</st
 rong> Bramboracky-Marsch</li><li><strong>Edvard Grieg</strong> Aus Holbergs
  Zeit / Suite op. 40 für Streichorchester</li><li>(I. Prélude. Allegro viva
 ce, II. Sarabande, Andante, V. Rigaudon. Allegro con brio)</li><li>(Bearbei
 tung von Maarten Jense)</li><li><strong>Gerald Resch</strong> Grid für Saxo
 phonquartett</li><li>(II. Semplice con fantasia, V. Etereo, VI. Con brio)</
 li><li><strong>Jule Styne</strong> Let it Snow!</li><li>(Bearbeitung Nico D
 ezaire &amp; Peter Kleine Schaars)</li><li><strong>Anonymus</strong> Weinga
 lopp</li><li>(Bearbeitung AUREUM Saxophon Quartett)</li><li><strong>Anonymu
 s</strong> Meraner Jodler, Steirer, Ischler Schleuniger / Traditionell</li>
 <li>(Bearbeitung von Rudi Pietsch)</li><li><strong>Steven Verhelst</strong>
  A Song for Japan</li><li>(Bearbeitung von Tetsuya Watanabe)</li><li><stron
 g>Astor Piazzolla</strong> Libertango</li><li>(Bearbeitung AUREUM Saxophon 
 Quartett)</li><li><strong>Chick Corea</strong> Spain</li><li>(Bearbeitung v
 on Philip Marillia)</li></ul></div><div class="d-block mt-5 mb-3"><p class=
 "bigger">Entspannte Konzerte für Eltern mit Babys von 0 bis 1 Jahren.</p><p
  class="bigger">Musik macht nicht nur Eltern, sondern auch Babys glücklich.
  Töne und Rhythmen fördern ihre Entwicklung. Außerdem bekommen Eltern von N
 eugeborenen selten die Gelegenheit, Konzerte zu besuchen. Mit Baby ins Konz
 ert ist ein Treffpunkt für Eltern mit ihren Babys, um im entspannten Ambien
 te Konzerte im sonnendurchfluteten Saal und mit angenehmer Lautstärke schon
  vormittags zu genießen. </p><p class="bigger"><strong><a href="https://bab
 ymamas.at/Interpreten AUREUM Saxophon Quartett Saxophonquartett Martina Stü
 ckler Sopransaxophon Johannes Weichinger Altsaxophon Viola Jank Tenorsaxoph
 on Lukas Seifried Baritonsaxophon Programm »Golden Roots« Florian Bramböck 
 Bramboracky-Marsch Edvard Grieg Aus Holbergs Zeit / Suite op. 40 für Streic
 horchester (I. Prélude. Allegro vivace, II. Sarabande, Andante, V. Rigaudon
 . Allegro con brio) (Bearbeitung von Maarten Jense) Gerald Resch Grid für S
 axophonquartett (II. Semplice con fantasia, V. Etereo, VI. Con brio) Jule S
 tyne Let it Snow! (Bearbeitung Nico Dezaire &amp; Peter Kleine Schaars) Ano
 nymus Weingalopp (Bearbeitung AUREUM Saxophon Quartett) Anonymus Meraner Jo
 dler, Steirer, Ischler Schleuniger / Traditionell (Bearbeitung von Rudi Pie
 tsch) Steven Verhelst A Song for Japan (Bearbeitung von Tetsuya Watanabe) A
 stor Piazzolla Libertango (Bearbeitung AUREUM Saxophon Quartett) Chick Core
 a Spain (Bearbeitung von Philip Marillia) Entspannte Konzerte für Eltern mi
 t Babys von 0 bis 1 Jahren">Tickets &amp; Info</a> </strong></p></div>
CONTACT:https://www.jeunesse.at/programm/veranstaltungsdetails/mit-baby-ins-konzert-aureum-saxophon-quartett
X-EXTRAINFO:[preis='2400'][anmeldung='true']
DTSTAMP:20260425T140222
DTSTART:20221207T090000
DTEND:20221207T094500
SEQUENCE:0
TRANSP:OPAQUE
END:VEVENT
END:VCALENDAR