BEGIN:VCALENDAR
VERSION:2.0
PRODID:-//jEvents 2.0 for Joomla//EN
CALSCALE:GREGORIAN
METHOD:PUBLISH
BEGIN:VEVENT
UID:236ede94aaea0fb81b83b667e975a14e
CATEGORIES:11. Bezirk
CREATED:20220825T075155
SUMMARY:HERZLICH WILLKOMMEN - sanfte Aromapflege zur Hautpflege der Kleinsten und Linderung erster Beschwerden
LOCATION:Huma Eleven\, Planet Lollipop
DESCRIPTION:<p>WAS ERWARTET DICH?</p><p>Ätherische Öle und ihre "Pflanzenpower" sind fü
 r die Kleinsten nur bedingt geeignet. Uns stehen jedoch viele fette Pflanze
 nöle und Hydrolate zur Verfügung, um die ersten Beschwerden auf eine sanfte
  Weise zu lindern und die Haut auf eine ganz natürliche Weise zu pflegen!</
 p><ul><li>Wir widmen uns unter anderem der Hautpflege nach dem Bad und der 
 Pflege der Haut im strapazierten Windelbereich.</li></ul><p> </p><ul><li>Ic
 h zeige dir, wie du dein Baby entsprechend der Jahreszeiten optimal pflegst
  - je nachdem ob ein eisiger Wind ums Näschen weht oder die ersten Sonnenst
 rahlen die Zehenspitzen kitzeln.</li></ul><p> </p><ul><li>Natürliche Badezu
 sätze, Reinigungstücher und vieles mehr kannst du (nach den persönlichen Du
 ftvorlieben) selbst herstellen. Ich gebe dir Tipps für eine unkomplizierte 
 (familienalltagstaugliche) Umsetzung daheim.? ?</li></ul><p> </p><ul><li>Be
 schwerden wie Schmerzen beim Zahnen, Blähungen oder Schnupfennasen können d
 urch die sanfte Anwendung der Aromapflege sowie bewährte Hausmittel gelinde
 rt werden. Auch dazu gibt es bewährte Tipps und Anwendungsempfehlungen.</li
 ></ul><p> </p><p>PREISE: pro Person: 45.- Paarpreis auf Anfrage inkl. Hando
 ut sowie die besprochenen fetten Pflanzenöle, Hydrolate und Anschauungsmate
 rial zum Kennenlernen vor Ort.</p><p>KEINEN BABYSITTER GEFUNDEN? Kein Probl
 em, dein Kleines kann dich ruhig zu unserem Workshop begleiten! </p>
CONTACT:www.makili.at; makili@gmx.at
X-EXTRAINFO:[preis='4500'][anmeldung='true']
DTSTAMP:20260423T100240
DTSTART:20221014T073000
DTEND:20221014T100000
SEQUENCE:0
TRANSP:OPAQUE
END:VEVENT
END:VCALENDAR