BEGIN:VCALENDAR
VERSION:2.0
PRODID:-//jEvents 2.0 for Joomla//EN
CALSCALE:GREGORIAN
METHOD:PUBLISH
BEGIN:VEVENT
UID:e618298f72b8b5cd03373d124abe06be
CATEGORIES:6. Bezirk
CREATED:20220825T081630
SUMMARY:Duftende Weihnachtsgeschenke basteln
LOCATION:biolino - Sandwirtgasse 13/12; 1060 Wien
DESCRIPTION:Kinder Kreativ Workshop\neine gemeinsame Veranstaltung von Biolino Institut
  und MaKiLi Aromapflege \n \nWir begleiten dich und dein Kind dabei, duften
 de und natürliche Weihnachtsgeschenke zu basteln!\nGemeinsam stellen wir he
 r:\n\n - ein zweifarbiges Badesalz zur Entspannung\n - Vanillezucker\n - sp
 rudelnde Badebomben\n - einen Duftstein, den ihr ganz nach euren Vorlieben 
 mit ätherischen Ölen beduften könnt \nAlles wird bereits vor Ort liebevoll 
 verpackt und wartet und nur noch darauf an eure Liebsten verschenkt zu werd
 en.\nZum Abschluss gibt es dann noch eine weihnachtliche Geschichte, die un
 sere kleinen und großen Nasen auf Weihnachten einstimmen wird.\ngeeignet fü
 r Kids im Alter von 2,5 - 5 Jahren\n \nKOSTEN: 36,- pro Kind Geschwisterpre
 is, € 19,- pro Kind\nIm Preis inkludiert sind sämtliche Rohstoffe und Arbei
 tsmaterialien in Bio-Qualität, sowie ein Handout mit den Rezepten und Schri
 tt-für- Schritt- Anleitungen zum weiteren Nachrühren!\n
X-ALT-DESC;FMTTYPE=text/html:<p style="text-align: center;"><strong>Kinder Kreativ Workshop</strong></p>
 <p style="text-align: center;"><strong>eine gemeinsame Veranstaltung von Bi
 olino Institut und MaKiLi Aromapflege </strong></p><p> </p><p>Wir begleiten
  dich und dein Kind dabei, duftende und natürliche Weihnachtsgeschenke zu b
 asteln!</p><p>Gemeinsam stellen wir her:</p><ul><li>ein zweifarbiges Badesa
 lz zur Entspannung</li><li>Vanillezucker</li><li>sprudelnde Badebomben</li>
 <li>einen Duftstein, den ihr ganz nach euren Vorlieben mit ätherischen Ölen
  beduften könnt</li></ul><p> </p><p>Alles wird bereits vor Ort liebevoll ve
 rpackt und wartet und nur noch darauf an eure Liebsten verschenkt zu werden
 .</p><p>Zum Abschluss gibt es dann noch eine weihnachtliche Geschichte, die
  unsere kleinen und großen Nasen auf Weihnachten einstimmen wird.</p><p>gee
 ignet für Kids im Alter von 2,5 - 5 Jahren</p><p> </p><p>KOSTEN: 36,- pro K
 ind Geschwisterpreis, € 19,- pro Kind</p><p>Im Preis inkludiert sind sämtli
 che Rohstoffe und Arbeitsmaterialien in Bio-Qualität, sowie ein Handout mit
  den Rezepten und Schritt-für- Schritt- Anleitungen zum weiteren Nachrühren
 !</p>
CONTACT:www.makili.at; makili@gmx.at
X-EXTRAINFO:[preis='3600'][anmeldung='true']
DTSTAMP:20260423T144337
DTSTART:20221203T090000
DTEND:20221203T110000
SEQUENCE:0
TRANSP:OPAQUE
END:VEVENT
END:VCALENDAR