BEGIN:VCALENDAR
VERSION:2.0
PRODID:-//jEvents 2.0 for Joomla//EN
CALSCALE:GREGORIAN
METHOD:PUBLISH
BEGIN:VEVENT
UID:6e425d5ef1eaa1223c48e9c2dfc27d62
CATEGORIES:6. Bezirk
CREATED:20220825T082036
SUMMARY:MUTTER- TOCHTER DUFT WORKSHOP
LOCATION:biolino - Sandwirtgasse 13/12; 1060 Wien
DESCRIPTION:Gemeinsam tauchen wir in die Herstellung von Naturkosmetik ein! Eine gemein
 same Veranstaltung von Biolino Institut und MaKiLi Aromapflege  Im trubelig
 en Alltag kommt das Miteinander leider oft viel zu kurz. Daher laden wir eu
 ch zu einem ganz besonderen Frauennachmittag ins Biolino Institut ein! Dass
  die Herstellung von natürlichen Pflegeprodukten nicht aufwendig oder teuer
  sein muss, zeigen wir euch beim gemeinsamen Rühren, Mörsern und Zusammenst
 ellen von: Lippenpflegestiftenzweifarbigem Blumenbadesalz zur EntspannungRa
 umspray - der Duft ganz euren Nasen nach In der Snackpause seid ihr herzlic
 h eingeladen unser Handpeeling oder Handbad mit Zutaten „aus dem Küchenkast
 erl“ zu testen! Für Mädchen ab 7 Jahren - bis 12 Jahre mit ihren Mamas/ Tan
 ten/ Omas  KOSTEN. 55,- pro Mama/Tochter Paar, Geschwisterkind: € 29,-Im Pr
 eis inkludiert sind alle erforderlichen Rohstoffe und Materialien, sowie ei
 n Handout zum nochmaligen Nachrühren daheim.    \n
X-ALT-DESC;FMTTYPE=text/html:<div class="entryDescription"><div class="bbcode" style="text-align: center
 ;"><strong>Gemeinsam tauchen wir in die Herstellung von Naturkosmetik ein! 
 </strong></div><div class="bbcode" style="text-align: center;"><strong>Eine
  gemeinsame Veranstaltung von Biolino Institut und MaKiLi Aromapflege</stro
 ng></div><div class="bbcode" style="text-align: center;"> </div><div class=
 "bbcode"> </div><div class="bbcode">Im trubeligen Alltag kommt das Miteinan
 der leider oft viel zu kurz. Daher laden wir euch zu einem ganz besonderen 
 Frauennachmittag ins Biolino Institut ein!</div><div class="bbcode"> </div>
 <div class="bbcode">Dass die Herstellung von natürlichen Pflegeprodukten ni
 cht aufwendig oder teuer sein muss, zeigen wir euch beim gemeinsamen Rühren
 , Mörsern und Zusammenstellen von:</div><div class="bbcode"> </div><ul><li 
 class="bbcode">Lippenpflegestiften</li><li class="bbcode">zweifarbigem Blum
 enbadesalz zur Entspannung</li><li class="bbcode">Raumspray - der Duft ganz
  euren Nasen nach</li></ul><div class="bbcode"> </div><div class="bbcode">I
 n der Snackpause seid ihr herzlich eingeladen unser Handpeeling oder Handba
 d mit Zutaten „aus dem Küchenkasterl“ zu testen!</div><div class="bbcode"> 
 </div><div class="bbcode">Für Mädchen ab 7 Jahren - bis 12 Jahre mit ihren 
 Mamas/ Tanten/ Omas</div><div class="bbcode"> </div><div class="bbcode"> </
 div><div class="bbcode">KOSTEN. 55,- pro Mama/Tochter Paar, Geschwisterkind
 : € 29,-</div><div class="bbcode">Im Preis inkludiert sind alle erforderlic
 hen Rohstoffe und Materialien, sowie ein Handout zum nochmaligen Nachrühren
  daheim. </div></div><div class="entryParticipate" data-behavior="participa
 nts-container"><div class="btn-going-to"> </div><div class="participants"><
 div class="portraitCollection"> </div></div></div><div class="entryImgUploa
 ds"> </div><div class="stream"><div id="comments-block" class="entryCreate 
 js-initialized" data-behavior="stream-form"><br /><form id="new_comment" cl
 ass="textEditor" accept-charset="UTF-8" enctype="multipart/form-data" metho
 d="post" data-remote="true"></form></div></div>
CONTACT:www.makili.at; makili@gmx.at
X-EXTRAINFO:[preis='5500'][anmeldung='true']
DTSTAMP:20260425T152859
DTSTART:20221104T151500
DTEND:20221104T170000
SEQUENCE:0
TRANSP:OPAQUE
END:VEVENT
END:VCALENDAR