BEGIN:VCALENDAR
VERSION:2.0
PRODID:-//jEvents 2.0 for Joomla//EN
CALSCALE:GREGORIAN
METHOD:PUBLISH
BEGIN:VEVENT
UID:436606d2c3f945b9b471ca4b37324b77
CATEGORIES:2. Bezirk
CREATED:19700101T010000
SUMMARY:Damenunterrock (ONLINE)
LOCATION:online
DESCRIPTION:Training für Beckenboden, Unterleib &amp; unterer RückenEin starker und zug
 leich flexibler Beckenboden ist in jedem Alter wesentlich um Zentrum und Rü
 cken zu stabilisieren, für die Gesundheit des Unterleibs sowie um selbstbew
 usst und sicher in der eigenen Kraft zu stehen.\nONLINE LIVE\njeweils  mitt
 wochs von 8:00 bis 8:40\ndrop-in-classn (Du zahlst nur die Einheiten, die D
 u dabei bist.)\nProbetraining kostenlos?.\nEs reicht, wenn Du Dich späteste
 ns am Vortag anmeldest - damit ich Dir den Link schicken kann.\nSobald Du i
 m Verteiler bist, kannst Du Dich jede Woche spontan entscheiden, ob Du dabe
 i bist.\n \nMehr dazu: \nwww.shiatsufuerzwei.at (https://www.xn--shiatsufrz
 wei-3ob.at/beckenbodentraining)\n
X-ALT-DESC;FMTTYPE=text/html:<h2 class="font_2">Training für Beckenboden, Unterleib &amp; unterer Rücken
 </h2><p>Ein starker und zugleich flexibler Beckenboden ist in jedem Alter w
 esentlich um Zentrum und Rücken zu stabilisieren, für die Gesundheit des Un
 terleibs sowie um selbstbewusst und sicher in der eigenen Kraft zu stehen.<
 /p><p class="font_8"><span class="color_11">ONLINE LIVE<br /></span><span c
 lass="color_11">jeweils  mittwochs von 8:00 bis 8:40<br /></span><span clas
 s="color_11">drop-in-classn (</span>Du zahlst nur die Einheiten, die Du dab
 ei bist.)<br />Probetraining kostenlos?.</p><p>Es reicht, wenn Du Dich spät
 estens am Vortag anmeldest - damit ich Dir den Link schicken kann.</p><p>So
 bald Du im Verteiler bist, kannst Du Dich jede Woche spontan entscheiden, o
 b Du dabei bist.</p><p> </p><p>Mehr dazu: </p><p><a href="https://www.xn--s
 hiatsufrzwei-3ob.at/beckenbodentraining">www.shiatsufuerzwei.at</a></p>
CONTACT:Isabell 0670 2044155
X-EXTRAINFO:[preis='1300'][anmeldung='true']
DTSTAMP:20260423T173236
DTSTART:20220831T060000
DTEND:20220831T064000
SEQUENCE:0
RRULE:FREQ=WEEKLY;COUNT=10;INTERVAL=1;BYDAY=WE
TRANSP:OPAQUE
END:VEVENT
END:VCALENDAR