BEGIN:VCALENDAR
VERSION:2.0
PRODID:-//jEvents 2.0 for Joomla//EN
CALSCALE:GREGORIAN
METHOD:PUBLISH
BEGIN:VEVENT
UID:d01c2d35a49b135069b8d736b31ebdd7
CATEGORIES:18. Bezirk
CREATED:19700101T010000
SUMMARY:Sinnesspielgruppe für Kleinstkinder
LOCATION:Spielringel\, Mollgasse 11-13
DESCRIPTION:Sinnesspielgruppe für Kleinstkinderfür Kinder von ca. 10 Monaten bis 2 Jahr
 e (mit Begleitung)Start:  07.09.2022\nMit: Claudia (https://spielringel.at/
 angebote/das-team/claudia)\nKurstag:  Mittwoch 11:15-12:15\nTermine:  07.09
 ., 14.09., 21.09., 28.09., 05.10.\nKosten:  €80,- (5-Wochen Kurs)\nDer Mens
 ch ist eine Sonne, seine Sinne sind seine Planeten.\n Novalis\nIn unserer S
 innesspielgruppe entdecken die Kinder spielend viel Neues und lernen dabei 
 auch noch neue Freunde kennen. Die Sinne der Kinder werden mit Hilfe versch
 iedener Materialien spielerisch angeregt, es wird experimentiert und auch g
 ebastelt. Achtsamkeit, Wahrnehmungsförderung und Sinnesschulung stehen im V
 ordergrund! .\nGenießt die Zeit beim gemeinsamen Spielen und Entdecken mit 
 euren Kindern!\n
X-ALT-DESC;FMTTYPE=text/html:<h2 class="element-header ">Sinnesspielgruppe für Kleinstkinder</h2><h4>für
  Kinder von ca. 10 Monaten bis 2 Jahre (mit Begleitung)</h4><p><span class=
 "text-primary font-weight-bold">Start: </span> 07.09.2022</p><p><span class
 ="text-primary font-weight-bold">Mit: </span><a href="https://spielringel.a
 t/angebote/das-team/claudia">Claudia</a></p><p><span class="text-primary fo
 nt-weight-bold">Kurstag: </span> Mittwoch 11:15-12:15</p><p><span class="te
 xt-primary font-weight-bold">Termine: </span> 07.09., 14.09., 21.09., 28.09
 ., 05.10.</p><p><span class="text-primary font-weight-bold">Kosten: </span>
  €80,- (5-Wochen Kurs)</p><p>Der Mensch ist eine Sonne, seine Sinne sind se
 ine Planeten.<br /> Novalis</p><p>In unserer Sinnesspielgruppe entdecken di
 e Kinder spielend viel Neues und lernen dabei auch noch neue Freunde kennen
 . Die Sinne der Kinder werden mit Hilfe verschiedener Materialien spieleris
 ch angeregt, es wird experimentiert und auch gebastelt. Achtsamkeit, Wahrne
 hmungsförderung und Sinnesschulung stehen im Vordergrund! .</p><p>Genießt d
 ie Zeit beim gemeinsamen Spielen und Entdecken mit euren Kindern!</p>
CONTACT:www.spielringel.at
X-EXTRAINFO:[preis='8000'][anmeldung='true']
DTSTAMP:20260423T160106
DTSTART:20220907T091500
DTEND:20220907T101500
SEQUENCE:0
RRULE:FREQ=WEEKLY;UNTIL=20221011T000000Z;INTERVAL=1;BYDAY=WE
TRANSP:OPAQUE
END:VEVENT
END:VCALENDAR