BEGIN:VCALENDAR
VERSION:2.0
PRODID:-//jEvents 2.0 for Joomla//EN
CALSCALE:GREGORIAN
METHOD:PUBLISH
BEGIN:VEVENT
UID:b8813292bda29c97825bc0a79ec3cf74
CATEGORIES:18. Bezirk
CREATED:19700101T010000
SUMMARY:Fit nach der Geburt
LOCATION:Spielringel\, Mollgasse 11-13
DESCRIPTION:Der Kurs Fit nach der Geburt unterstützt deinen Körper dabei, sich nach der
  Schwangerschaft und Geburt wieder aufzubauen.\nDurch ein abwechslungsreich
 es, auf die individuellen Bedürfnisse nach der Geburt eingehendes Übungs- u
 nd Bewegungsprogramm aktivieren wir die Bauchmuskulatur, kräftigen mit sanf
 ten Übungen den Rücken, unterstützen die Rückbildung und kräftigen den ganz
 en Bewegungsapparat dabei.\nBabys sind immer willkommen! Du kannst jede Stu
 nde neu entscheiden, ob du mit oder ohne Nachwuchs kommen möchtest.\n
X-ALT-DESC;FMTTYPE=text/html:<p>Der Kurs Fit nach der Geburt unterstützt deinen Körper dabei, sich nach 
 der Schwangerschaft und Geburt wieder aufzubauen.</p><p>Durch ein abwechslu
 ngsreiches, auf die individuellen Bedürfnisse nach der Geburt eingehendes Ü
 bungs- und Bewegungsprogramm aktivieren wir die Bauchmuskulatur, kräftigen 
 mit sanften Übungen den Rücken, unterstützen die Rückbildung und kräftigen 
 den ganzen Bewegungsapparat dabei.</p><p>Babys sind immer willkommen! Du ka
 nnst jede Stunde neu entscheiden, ob du mit oder ohne Nachwuchs kommen möch
 test.</p>
CONTACT:www.spielringel.at
X-EXTRAINFO:[preis='8000'][anmeldung='true']
DTSTAMP:20260423T141647
DTSTART:20220908T153000
DTEND:20220908T163000
SEQUENCE:0
RRULE:FREQ=WEEKLY;UNTIL=20221009T000000Z;INTERVAL=1;BYDAY=TH
TRANSP:OPAQUE
END:VEVENT
END:VCALENDAR