BEGIN:VCALENDAR
VERSION:2.0
PRODID:-//jEvents 2.0 for Joomla//EN
CALSCALE:GREGORIAN
METHOD:PUBLISH
BEGIN:VEVENT
UID:f59c4d6971df2e6ec4f11650db087f98
CATEGORIES:2. Bezirk
CREATED:20220830T104953
SUMMARY:KONZERTE FÜR DIE ALLERJÜNGSTEN - Krabbel- und Mitmachkonzerte
LOCATION:Das MuTh - Am Augartenspitz 1\, 1020 Wien
DESCRIPTION:Uns’re Welt ist bunt und klingt!\nDie Welt der Musik möchte erobert werden.
  Also laden wir die jüngsten Entdeckerinnen und Entdecker zum Krabbeln, Bra
 bbeln, Lachen, Lauschen, Singen, Spielen und Tanzen ein! Gemeinsam mit Musi
 kvermittlerin Birgit Reithofer erkunden wir direkt auf der Bühne die Musik 
 mit allen Sinnen. Lasst euch mitreißen und erlebt Flötentöne, Harfenklänge 
 und noch mehr ganz nah. Wir freuen uns aufs miteinander Musizieren und Entd
 ecken!\n \nBirgit Reithofer Konzept und ModerationNicole Henter FlöteThomas
  Prem KlarinetteMennan Berveniku KlavierJulia Kräuter Harfe \nHinweis: Das 
 Programm findet auf der Bühne statt. Pro Kleinkind ist eine erwachsene Begl
 eitperson auf der Bühne vorgesehen. Weitere erwachsene Begleitpersonen könn
 en ein Saalticket zum Zuschauen lösen.\n \nBühnenticket 1 Erwachsener + 1 K
 ind | 22,00 €\nSaalticket für weitere Familienmitglieder | 9,00 €\n
X-ALT-DESC;FMTTYPE=text/html:<p><strong>Uns’re Welt ist bunt und klingt!</strong></p><p>Die Welt der Mus
 ik möchte erobert werden. Also laden wir die jüngsten Entdeckerinnen und En
 tdecker zum Krabbeln, Brabbeln, Lachen, Lauschen, Singen, Spielen und Tanze
 n ein! Gemeinsam mit Musikvermittlerin Birgit Reithofer erkunden wir direkt
  auf der Bühne die Musik mit allen Sinnen. Lasst euch mitreißen und erlebt 
 Flötentöne, Harfenklänge und noch mehr ganz nah. Wir freuen uns aufs mitein
 ander Musizieren und Entdecken!</p><p> </p><div><strong><span class="detail
 -termin_cast_name">Birgit Reithofer</span></strong> <span class="detail-ter
 min-cast_role">Konzept und Moderation</span></div><div><strong><span class=
 "detail-termin_cast_name">Nicole Henter</span></strong> <span class="detail
 -termin-cast_role">Flöte</span></div><div><strong><span class="detail-termi
 n_cast_name">Thomas Prem</span> </strong><span class="detail-termin-cast_ro
 le">Klarinette</span></div><div><strong><span class="detail-termin_cast_nam
 e">Mennan Berveniku</span></strong> <span class="detail-termin-cast_role">K
 lavier</span></div><div><strong><span class="detail-termin_cast_name">Julia
  Kräuter</span></strong> <span class="detail-termin-cast_role">Harfe</span>
 </div><p> </p><p><strong>Hinweis:</strong> Das Programm findet auf der Bühn
 e statt. Pro Kleinkind ist eine erwachsene Begleitperson auf der Bühne vorg
 esehen. Weitere erwachsene Begleitpersonen können ein Saalticket zum Zuscha
 uen lösen.</p><p> </p><p>Bühnenticket 1 Erwachsener + 1 Kind | 22,00 €</p><
 p>Saalticket für weitere Familienmitglieder | 9,00 €</p>
CONTACT:tickets@muth.at oder 01 347 80 80
X-EXTRAINFO:[preis='2200'][anmeldung='false']
DTSTAMP:20260423T190031
DTSTART:20220925T120000
SEQUENCE:0
TRANSP:OPAQUE
END:VEVENT
END:VCALENDAR