BEGIN:VCALENDAR
VERSION:2.0
PRODID:-//jEvents 2.0 for Joomla//EN
CALSCALE:GREGORIAN
METHOD:PUBLISH
BEGIN:VEVENT
UID:78dbc438ec92cc09b87b59e166b0ba31
CATEGORIES:2. Bezirk
CREATED:20220830T105352
SUMMARY:KONZERTE FÜR DIE ALLERJÜNGSTEN - Krabbel- und Mitmachkonzerte
LOCATION:Das MuTh - Am Augartenspitz 1\, 1020 Wien
DESCRIPTION:Wir machen einen Ausflug!\n \nDie Welt der Musik möchte erobert werden. Als
 o laden wir die jüngsten Entdeckerinnen und Entdecker zum Krabbeln, Brabbel
 n, Lachen, Lauschen, Singen, Spielen und Tanzen ein! Gemeinsam mit Musikver
 mittlerin Birgit Reithofer erkunden wir direkt auf der Bühne die Musik mit 
 allen Sinnen. Lasst euch mitreißen und erlebt Flötentöne, Harfenklänge und 
 noch mehr ganz nah. Wir freuen uns aufs miteinander Musizieren und Entdecke
 n!\n \n \nBirgit Reithofer Konzept und ModerationNicole Henter FlöteThomas 
 Prem KlarinetteMennan Berveniku KlavierJulia Kräuter Harfe \nHinweis: Das P
 rogramm findet auf der Bühne statt. Pro Kleinkind ist eine erwachsene Begle
 itperson auf der Bühne vorgesehen. Weitere erwachsene Begleitpersonen könne
 n ein Saalticket zum Zuschauen lösen.\n \nBühnenticket 1 Erwachsener + 1 Ki
 nd | 22,00 €\nSaalticket für weitere Familienmitglieder | 9,00 €\n \n
X-ALT-DESC;FMTTYPE=text/html:<p><strong>Wir machen einen Ausflug!</strong></p><p> </p><p>Die Welt der Mu
 sik möchte erobert werden. Also laden wir die jüngsten Entdeckerinnen und E
 ntdecker zum Krabbeln, Brabbeln, Lachen, Lauschen, Singen, Spielen und Tanz
 en ein! Gemeinsam mit Musikvermittlerin Birgit Reithofer erkunden wir direk
 t auf der Bühne die Musik mit allen Sinnen. Lasst euch mitreißen und erlebt
  Flötentöne, Harfenklänge und noch mehr ganz nah. Wir freuen uns aufs mitei
 nander Musizieren und Entdecken!</p><p> </p><p> </p><div><strong><span clas
 s="detail-termin_cast_name">Birgit Reithofer</span></strong> <span class="d
 etail-termin-cast_role">Konzept und Moderation</span></div><div><strong><sp
 an class="detail-termin_cast_name">Nicole Henter</span></strong> <span clas
 s="detail-termin-cast_role">Flöte</span></div><div><strong><span class="det
 ail-termin_cast_name">Thomas Prem</span> </strong><span class="detail-termi
 n-cast_role">Klarinette</span></div><div><strong><span class="detail-termin
 _cast_name">Mennan Berveniku</span></strong> <span class="detail-termin-cas
 t_role">Klavier</span></div><div><strong><span class="detail-termin_cast_na
 me">Julia Kräuter</span></strong> <span class="detail-termin-cast_role">Har
 fe</span></div><p> </p><p><strong>Hinweis:</strong> Das Programm findet auf
  der Bühne statt. Pro Kleinkind ist eine erwachsene Begleitperson auf der B
 ühne vorgesehen. Weitere erwachsene Begleitpersonen können ein Saalticket z
 um Zuschauen lösen.</p><p> </p><p>Bühnenticket 1 Erwachsener + 1 Kind | 22,
 00 €</p><p>Saalticket für weitere Familienmitglieder | 9,00 €</p><p> </p>
CONTACT:tickets@muth.at oder 01 347 80 80
X-EXTRAINFO:[preis='2200'][anmeldung='false']
DTSTAMP:20260423T173321
DTSTART:20221023T143000
SEQUENCE:0
TRANSP:OPAQUE
END:VEVENT
END:VCALENDAR