BEGIN:VCALENDAR
VERSION:2.0
PRODID:-//jEvents 2.0 for Joomla//EN
CALSCALE:GREGORIAN
METHOD:PUBLISH
BEGIN:VEVENT
UID:890ab5c0ca7b909dde66ef8abb560307
CATEGORIES:2. Bezirk
CREATED:20220830T105705
SUMMARY:KONZERTE FÜR DIE ALLERJÜNGSTEN - Krabbel- und Mitmachkonzerte
LOCATION:Das MuTh - Am Augartenspitz 1\, 1020 Wien
DESCRIPTION:Sonne, Mond und Sterne\n \nDie Welt der Musik möchte erobert werden. Also l
 aden wir die jüngsten Entdeckerinnen und Entdecker zum Krabbeln, Brabbeln, 
 Lachen, Lauschen, Singen, Spielen und Tanzen ein! Gemeinsam mit Musikvermit
 tlerin Birgit Reithofer erkunden wir direkt auf der Bühne die Musik mit all
 en Sinnen. Lasst euch mitreißen und erlebt Flötentöne, Harfenklänge und noc
 h mehr ganz nah. Wir freuen uns aufs miteinander Musizieren und Entdecken!\
 n \nBirgit Reithofer Konzept und ModerationNicole Henter FlöteThomas Prem K
 larinetteMennan Berveniku KlavierJulia Kräuter Harfe \nHinweis: Das Program
 m findet auf der Bühne statt. Pro Kleinkind ist eine erwachsene Begleitpers
 on auf der Bühne vorgesehen. Weitere erwachsene Begleitpersonen können ein 
 Saalticket zum Zuschauen lösen.\n \nBühnenticket 1 Erwachsener + 1 Kind | 2
 2,00 €\nSaalticket für weitere Familienmitglieder | 9,00 €\n
X-ALT-DESC;FMTTYPE=text/html:<p><strong>Sonne, Mond und Sterne</strong></p><p> </p><p>Die Welt der Musik
  möchte erobert werden. Also laden wir die jüngsten Entdeckerinnen und Entd
 ecker zum Krabbeln, Brabbeln, Lachen, Lauschen, Singen, Spielen und Tanzen 
 ein! Gemeinsam mit Musikvermittlerin Birgit Reithofer erkunden wir direkt a
 uf der Bühne die Musik mit allen Sinnen. Lasst euch mitreißen und erlebt Fl
 ötentöne, Harfenklänge und noch mehr ganz nah. Wir freuen uns aufs miteinan
 der Musizieren und Entdecken!</p><p> </p><div><strong><span class="detail-t
 ermin_cast_name">Birgit Reithofer</span></strong> <span class="detail-termi
 n-cast_role">Konzept und Moderation</span></div><div><strong><span class="d
 etail-termin_cast_name">Nicole Henter</span></strong> <span class="detail-t
 ermin-cast_role">Flöte</span></div><div><strong><span class="detail-termin_
 cast_name">Thomas Prem</span> </strong><span class="detail-termin-cast_role
 ">Klarinette</span></div><div><strong><span class="detail-termin_cast_name"
 >Mennan Berveniku</span></strong> <span class="detail-termin-cast_role">Kla
 vier</span></div><div><strong><span class="detail-termin_cast_name">Julia K
 räuter</span> </strong><span class="detail-termin-cast_role">Harfe</span></
 div><p> </p><p><strong>Hinweis:</strong> Das Programm findet auf der Bühne 
 statt. Pro Kleinkind ist eine erwachsene Begleitperson auf der Bühne vorges
 ehen. Weitere erwachsene Begleitpersonen können ein Saalticket zum Zuschaue
 n lösen.</p><p> </p><p>Bühnenticket 1 Erwachsener + 1 Kind | 22,00 €</p><p>
 Saalticket für weitere Familienmitglieder | 9,00 €</p>
CONTACT:tickets@muth.at oder 01 347 80 80
X-EXTRAINFO:[preis='2200'][anmeldung='false']
DTSTAMP:20260423T141613
DTSTART:20221127T130000
SEQUENCE:0
TRANSP:OPAQUE
END:VEVENT
END:VCALENDAR