BEGIN:VCALENDAR
VERSION:2.0
PRODID:-//jEvents 2.0 for Joomla//EN
CALSCALE:GREGORIAN
METHOD:PUBLISH
BEGIN:VEVENT
UID:6c9594eba1b0ee8fd2040feed311c6d5
CATEGORIES:2. Bezirk
CREATED:20220830T110724
SUMMARY:KONZERTE FÜR DIE ALLERJÜNGSTEN - Krabbel- und Mitmachkonzerte
LOCATION:Das MuTh - Am Augartenspitz 1\, 1020 Wien
DESCRIPTION:Kling, Glöckchen, kling\n \nDie Welt der Musik möchte erobert werden. Also 
 laden wir die jüngsten Entdeckerinnen und Entdecker zum Krabbeln, Brabbeln,
  Lachen, Lauschen, Singen, Spielen und Tanzen ein! Gemeinsam mit Musikvermi
 ttlerin Birgit Reithofer erkunden wir direkt auf der Bühne die Musik mit al
 len Sinnen. Lasst euch mitreißen und erlebt Flötentöne, Harfenklänge und no
 ch mehr ganz nah. Wir freuen uns aufs miteinander Musizieren und Entdecken!
 \n \nBirgit Reithofer Konzept und Moderation\n Nicole Henter Flöte\n Thomas
  Prem Klarinette\n Mennan Berveniku Klavier\n Julia Kräuter Harfe\n \nHinwe
 is: Das Programm findet auf der Bühne statt. Pro Kleinkind ist eine erwachs
 ene Begleitperson auf der Bühne vorgesehen. Weitere erwachsene Begleitperso
 nen können ein Saalticket zum Zuschauen lösen.\n \nBühnenticket 1 Erwachsen
 er + 1 Kind | 22,00 €\n Saalticket für weitere Familienmitglieder | 9,00 €\
 n
X-ALT-DESC;FMTTYPE=text/html:<p><strong>Kling, Glöckchen, kling</strong></p><p> </p><p>Die Welt der Musi
 k möchte erobert werden. Also laden wir die jüngsten Entdeckerinnen und Ent
 decker zum Krabbeln, Brabbeln, Lachen, Lauschen, Singen, Spielen und Tanzen
  ein! Gemeinsam mit Musikvermittlerin Birgit Reithofer erkunden wir direkt 
 auf der Bühne die Musik mit allen Sinnen. Lasst euch mitreißen und erlebt F
 lötentöne, Harfenklänge und noch mehr ganz nah. Wir freuen uns aufs miteina
 nder Musizieren und Entdecken!</p><p> </p><p><strong>Birgit Reithofer</stro
 ng> Konzept und Moderation<br /> <strong>Nicole Henter</strong> Flöte<br />
  <strong>Thomas Prem </strong>Klarinette<br /> <strong>Mennan Berveniku</st
 rong> Klavier<br /> <strong>Julia Kräuter</strong> Harfe</p><p> </p><p><str
 ong>Hinweis:</strong> Das Programm findet auf der Bühne statt. Pro Kleinkin
 d ist eine erwachsene Begleitperson auf der Bühne vorgesehen. Weitere erwac
 hsene Begleitpersonen können ein Saalticket zum Zuschauen lösen.</p><p> </p
 ><p>Bühnenticket 1 Erwachsener + 1 Kind | 22,00 €<br /> Saalticket für weit
 ere Familienmitglieder | 9,00 €</p>
CONTACT:tickets@muth.at oder 01 347 80 80
X-EXTRAINFO:[preis='2200'][anmeldung='false']
DTSTAMP:20260425T121645
DTSTART:20221223T130000
SEQUENCE:0
TRANSP:OPAQUE
END:VEVENT
END:VCALENDAR