BEGIN:VCALENDAR
VERSION:2.0
PRODID:-//jEvents 2.0 for Joomla//EN
CALSCALE:GREGORIAN
METHOD:PUBLISH
BEGIN:VEVENT
UID:92a259a3aa90d866db2c5c2060fff8e0
CATEGORIES:2. Bezirk
CREATED:20220906T151533
SUMMARY:Artgerecht Familien Treffen
LOCATION:Treffpunkt: Prater\, vor dem Zeiss Planetarium
DESCRIPTION:Hier treffen sich Eltern mit Babys und Kindern, die sich für die Artgerecht
  Bücher bzw. das Artgerecht Konzept von Nicola Schmidt interessieren zum Au
 stauschen, Plaudern, Kennenlernen &lt;3\nKomm gerne vorbei! \nWir werden un
 s vom Treffpunkt aus einen schönen Platz aussuchen, wenn du später kommst, 
 kontaktiere uns über unsere Signal Gruppe Artgerecht Projekt Wien (https://
 signal.group/#CjQKIPutyaglXANo-TAHPp4RO08kzvurMjOR7uDXVMHV1rZ6EhA6z_0pO5Vpg
 FmD8OB-8NFJ)\n
X-ALT-DESC;FMTTYPE=text/html:<p>Hier treffen sich Eltern mit Babys und Kindern, die sich für die <strong
 >Artgerecht</strong> Bücher bzw. das Artgerecht Konzept von Nicola Schmidt 
 interessieren zum Austauschen, Plaudern, Kennenlernen &lt;3</p><p>Komm gern
 e vorbei! </p><p>Wir werden uns vom Treffpunkt aus einen schönen Platz auss
 uchen, wenn du später kommst, kontaktiere uns über unsere Signal Gruppe <a 
 href="https://signal.group/#CjQKIPutyaglXANo-TAHPp4RO08kzvurMjOR7uDXVMHV1rZ
 6EhA6z_0pO5VpgFmD8OB-8NFJ"><em>Artgerecht Projekt</em> <em>Wien</em></a></p
 >
CONTACT:https://signal.group/#CjQKIPutyaglXANo-TAHPp4RO08kzvurMjOR7uDXVMHV1rZ6EhA6z_0pO5VpgFmD8OB-8NFJ
DTSTAMP:20260423T185940
DTSTART:20220912T133000
SEQUENCE:0
TRANSP:OPAQUE
END:VEVENT
END:VCALENDAR