BEGIN:VCALENDAR
VERSION:2.0
PRODID:-//jEvents 2.0 for Joomla//EN
CALSCALE:GREGORIAN
METHOD:PUBLISH
BEGIN:VEVENT
UID:da63646ae77ac10749c71763443e9792
CATEGORIES:1. Bezirk
CREATED:20220907T125042
SUMMARY:Kinderkonzert "Cinello | Klingende Weite" (für 1-3 Jahre)
LOCATION:Wiener Konzerthaus
DESCRIPTION:<div class="d-block my-3"><h2><strong>Interpreten</strong></h2><ul><li><str
 ong>Salah Ammo</strong> Bouzouk, Gesang</li><li><strong>Emmy Steiner</stron
 g> Tanz, Choreographie</li><li><strong>Nina Ball</strong> Kostüme, Ausstatt
 ung</li><li><strong>Anna Grüssinger</strong> Regie, Choreographie</li></ul>
 </div><div class="d-block mt-5 mb-3"><p class="bigger">Interaktive Konzertr
 eihe für Kinder von 1-3 Jahren</p><p>Ganz elegant, leicht und sanft zupft S
 alah die Saiten. Cinello lauscht dem feinen Klangteppich und hebt vorsichti
 g ab. Doch da beginnen die Töne zu tanzen und ein Wirbeln beginnt!</p><p><e
 m>Dauer: ca. 35 Minuten<br />Freie Platzwahl</em></p><p><em>In Kooperation 
 mit dem Wiener Konzerthaus</em></p></div>
CONTACT:https://www.jeunesse.at/programm/veranstaltungsdetails/cinello-klingende-weite
X-EXTRAINFO:[preis='2400'][anmeldung='true']
DTSTAMP:20260423T173446
DTSTART:20221018T140000
DTEND:20221018T143500
SEQUENCE:0
TRANSP:OPAQUE
END:VEVENT
END:VCALENDAR