BEGIN:VCALENDAR
VERSION:2.0
PRODID:-//jEvents 2.0 for Joomla//EN
CALSCALE:GREGORIAN
METHOD:PUBLISH
BEGIN:VEVENT
UID:2bf209f22505a59c8d9f4a6d6cde3e98
CATEGORIES:1. Bezirk
CREATED:20220907T125354
SUMMARY:Kinderkonzert "Cinello | Klingende Weite" (für 1-3 Jahre)
LOCATION:Wiener Konzerthaus
DESCRIPTION:<div class="d-block my-3"><h2><strong>Interpreten</strong></h2><ul><li><str
 ong>Salah Ammo</strong> Bouzouk, Gesang</li><li><strong>Emmy Steiner</stron
 g> Tanz, Choreographie</li><li><strong>Nina Ball</strong> Kostüme, Ausstatt
 ung</li><li><strong>Anna Grüssinger</strong> Regie, Choreographie</li></ul>
 </div><div class="d-block mt-5 mb-3"><p class="bigger">Interaktive Konzertr
 eihe für Kinder von 1-3 Jahren</p><p>Ganz elegant, leicht und sanft zupft S
 alah die Saiten. Cinello lauscht dem feinen Klangteppich und hebt vorsichti
 g ab. Doch da beginnen die Töne zu tanzen und ein Wirbeln beginnt!</p><p><e
 m>Dauer: ca. 35 Minuten<br />Freie Platzwahl</em></p><p><em>In Kooperation 
 mit dem Wiener Konzerthaus</em></p><p> </p></div>
CONTACT:https://www.jeunesse.at/programm/veranstaltungsdetails/cinello-klingende-weite-3
X-EXTRAINFO:[preis='2400'][anmeldung='true']
DTSTAMP:20260423T190422
DTSTART:20221019T123000
DTEND:20221019T123500
SEQUENCE:0
TRANSP:OPAQUE
END:VEVENT
END:VCALENDAR