BEGIN:VCALENDAR
VERSION:2.0
PRODID:-//jEvents 2.0 for Joomla//EN
CALSCALE:GREGORIAN
METHOD:PUBLISH
BEGIN:VEVENT
UID:57a98024f840e75ee27f272eb77ace8f
CATEGORIES:1. Bezirk
CREATED:20220907T125505
SUMMARY:Kinderkonzert "Cinello | Klingende Weite" (für 1-3 Jahre)
LOCATION:Wiener Konzerthaus
DESCRIPTION:Interpreten\n - Salah Ammo Bouzouk, Gesang\n - Emmy Steiner Tanz, Choreogra
 phie\n - Nina Ball Kostüme, Ausstattung\n - Anna Grüssinger Regie, Choreogr
 aphieInteraktive Konzertreihe für Kinder von 1-3 Jahren\nGanz elegant, leic
 ht und sanft zupft Salah die Saiten. Cinello lauscht dem feinen Klangteppic
 h und hebt vorsichtig ab. Doch da beginnen die Töne zu tanzen und ein Wirbe
 ln beginnt!\nDauer: ca. 35 Minuten\nFreie Platzwahl\nIn Kooperation mit dem
  Wiener Konzerthaus\n
X-ALT-DESC;FMTTYPE=text/html:<div class="d-block my-3"><h2>Interpreten</h2><ul><li><strong>Salah Ammo</s
 trong> Bouzouk, Gesang</li><li><strong>Emmy Steiner</strong> Tanz, Choreogr
 aphie</li><li><strong>Nina Ball</strong> Kostüme, Ausstattung</li><li><stro
 ng>Anna Grüssinger</strong> Regie, Choreographie</li></ul></div><div class=
 "d-block mt-5 mb-3"><p class="bigger">Interaktive Konzertreihe für Kinder v
 on 1-3 Jahren</p><p>Ganz elegant, leicht und sanft zupft Salah die Saiten. 
 Cinello lauscht dem feinen Klangteppich und hebt vorsichtig ab. Doch da beg
 innen die Töne zu tanzen und ein Wirbeln beginnt!</p><p><em>Dauer: ca. 35 M
 inuten<br />Freie Platzwahl</em></p><p><em>In Kooperation mit dem Wiener Ko
 nzerthaus</em></p></div>
CONTACT:https://www.jeunesse.at/programm/veranstaltungsdetails/cinello-klingende-weite-2
X-EXTRAINFO:[preis='2400'][anmeldung='true']
DTSTAMP:20260423T190043
DTSTART:20221019T140000
DTEND:20221019T143500
SEQUENCE:0
TRANSP:OPAQUE
END:VEVENT
END:VCALENDAR