BEGIN:VCALENDAR
VERSION:2.0
PRODID:-//jEvents 2.0 for Joomla//EN
CALSCALE:GREGORIAN
METHOD:PUBLISH
BEGIN:VEVENT
UID:e0bdab937310bbd9bf2814a466501ece
CATEGORIES:1. Bezirk
CREATED:20220907T125626
SUMMARY:Kinderkonzert "Cinello | Klingende Weite" (für 1-3 Jahre)
LOCATION:Wiener Konzerthaus
DESCRIPTION:Interpreten\n - Salah Ammo Bouzouk, Gesang\n - Emmy Steiner Tanz, Choreogra
 phie\n - Nina Ball Kostüme, Ausstattung\n - Anna Grüssinger Regie, Choreogr
 aphieInteraktive Konzertreihe für Kinder von 1-3 Jahren \nGanz elegant, lei
 cht und sanft zupft Salah die Saiten. Cinello lauscht dem feinen Klangteppi
 ch und hebt vorsichtig ab. Doch da beginnen die Töne zu tanzen und ein Wirb
 eln beginnt!\nDauer: ca. 35 Minuten\nFreie Platzwahl\nIn Kooperation mit de
 m Wiener Konzerthaus\n
X-ALT-DESC;FMTTYPE=text/html:<div class="d-block my-3"><h2><strong>Interpreten</strong></h2><ul><li><str
 ong>Salah Ammo</strong> Bouzouk, Gesang</li><li><strong>Emmy Steiner</stron
 g> Tanz, Choreographie</li><li><strong>Nina Ball</strong> Kostüme, Ausstatt
 ung</li><li><strong>Anna Grüssinger</strong> Regie, Choreographie</li></ul>
 </div><div class="d-block mt-5 mb-3"><p class="bigger">Interaktive Konzertr
 eihe für Kinder von 1-3 Jahren </p><p>Ganz elegant, leicht und sanft zupft 
 Salah die Saiten. Cinello lauscht dem feinen Klangteppich und hebt vorsicht
 ig ab. Doch da beginnen die Töne zu tanzen und ein Wirbeln beginnt!</p><p><
 em>Dauer: ca. 35 Minuten<br />Freie Platzwahl</em></p><p><em>In Kooperation
  mit dem Wiener Konzerthaus</em></p></div>
CONTACT:https://www.jeunesse.at/programm/veranstaltungsdetails/cinello-klingende-weite-4
X-EXTRAINFO:[preis='2400'][anmeldung='false']
DTSTAMP:20260423T190057
DTSTART:20221020T090000
DTEND:20221020T093500
SEQUENCE:0
TRANSP:OPAQUE
END:VEVENT
END:VCALENDAR