BEGIN:VCALENDAR
VERSION:2.0
PRODID:-//jEvents 2.0 for Joomla//EN
CALSCALE:GREGORIAN
METHOD:PUBLISH
BEGIN:VEVENT
UID:1fb8f8c58c3da15d4aa79a8bae831ede
CATEGORIES:1. Bezirk
CREATED:20220907T125828
SUMMARY:Kinderkonzert "Cinello | Klingende Weite" (für 1-3 Jahre)
LOCATION:Wiener Konzerthaus
DESCRIPTION:<div class="d-block my-3"><h2>Interpreten</h2><ul><li><strong>Salah Ammo</s
 trong> Bouzouk, Gesang</li><li><strong>Emmy Steiner</strong> Tanz, Choreogr
 aphie</li><li><strong>Nina Ball</strong> Kostüme, Ausstattung</li><li><stro
 ng>Anna Grüssinger</strong> Regie, Choreographie</li></ul></div><div class=
 "d-block mt-5 mb-3"><p class="bigger">Interaktive Konzertreihe für Kinder v
 on 1-3 Jahren</p><p>Ganz elegant, leicht und sanft zupft Salah die Saiten. 
 Cinello lauscht dem feinen Klangteppich und hebt vorsichtig ab. Doch da beg
 innen die Töne zu tanzen und ein Wirbeln beginnt!</p><p><em>Dauer: ca. 35 M
 inuten<br />Freie Platzwahl</em></p><p><em>In Kooperation mit dem Wiener Ko
 nzerthaus</em></p></div>
CONTACT:https://www.jeunesse.at/programm/veranstaltungsdetails/cinello-klingende-weite-5
X-EXTRAINFO:[preis='2400'][anmeldung='true']
DTSTAMP:20260423T190330
DTSTART:20221020T123000
DTEND:20221020T123500
SEQUENCE:0
TRANSP:OPAQUE
END:VEVENT
END:VCALENDAR