BEGIN:VCALENDAR
VERSION:2.0
PRODID:-//jEvents 2.0 for Joomla//EN
CALSCALE:GREGORIAN
METHOD:PUBLISH
BEGIN:VEVENT
UID:80e2b2b779829751ca7489b185c0e8c2
CATEGORIES:2. Bezirk
CREATED:20220911T064629
SUMMARY:Vienna family Network Kindersachen Flohmarkt
LOCATION:Mensa WU\, Welthandelsplatz 1
DESCRIPTION:Link to event  (https://facebook.com/events/s/vfn-flea-member-business-mark
 e/464086098740446/)\n\nTheVienna Family Network (VFN) (http://Www.viennafam
 ilynetwork.com) hosts a bi-annual flea market where its members can sell ge
 ntly-used toys, books, clothes, equipment, furniture for babies and kids. I
 t is open to the public - all are welcome!\nA Junior market allows members'
  kids to sell their items and also the Member Business Market offers a vari
 ety of international services and products to check out.\nWe welcome everyo
 ne to visit our international charity cafe to enjoy some delicious homemade
  baked treats (sweet &amp; savory)! All proceeds from the cafe go to our VF
 N Charity of the Year, CliniClowns Austria.\nStay tuned for more informatio
 n and news as we get closer to the date!\n~~~~~~~~~~~~~~~~~~~~~~~~~~~~~~~~~
 ~~~~~\nInternationaler Flohmarkt -- Kinderbücher, Kleidung, Spielzeug, Auss
 tattung, Kunsthandwerk und mehr.\nKuchen für einen guten Zweck (CliniClowns
  Austria).\nAlle sind herzlich Willkommen!\n \n \n
X-ALT-DESC;FMTTYPE=text/html:<p><a href="https://facebook.com/events/s/vfn-flea-member-business-marke/46
 4086098740446/">Link to event </a></p><p><br />The<a href="http://Www.vienn
 afamilynetwork.com">Vienna Family Network (VFN)</a> hosts a bi-annual flea 
 market where its members can sell gently-used toys, books, clothes, equipme
 nt, furniture for babies and kids. It is open to the public - all are welco
 me!</p><p>A Junior market allows members' kids to sell their items and also
  the Member Business Market offers a variety of international services and 
 products to check out.</p><p>We welcome everyone to visit our international
  charity cafe to enjoy some delicious homemade baked treats (sweet &amp; sa
 vory)! All proceeds from the cafe go to our VFN Charity of the Year, CliniC
 lowns Austria.</p><p>Stay tuned for more information and news as we get clo
 ser to the date!<br />~~~~~~~~~~~~~~~~~~~~~~~~~~~~~~~~~~~~~~<br />Internati
 onaler Flohmarkt -- Kinderbücher, Kleidung, Spielzeug, Ausstattung, Kunstha
 ndwerk und mehr.<br />Kuchen für einen guten Zweck (CliniClowns Austria).</
 p><p>Alle sind herzlich Willkommen!</p><p> </p><p> </p>
CONTACT:VFN
DTSTAMP:20260423T185942
DTSTART:20220925T070000
DTEND:20220925T110000
SEQUENCE:0
TRANSP:OPAQUE
END:VEVENT
END:VCALENDAR