BEGIN:VCALENDAR
VERSION:2.0
PRODID:-//jEvents 2.0 for Joomla//EN
CALSCALE:GREGORIAN
METHOD:PUBLISH
BEGIN:VEVENT
UID:31dbe5c5d9b178c47ab888e7222aa477
CATEGORIES:18. Bezirk
CREATED:20220911T143802
SUMMARY:Austauschgruppe für Eltern von sehr bedürfnisstarken Babys
LOCATION:Mag. Susanne Schmid B.A. Gut-in-Verbindung\, ökids-Zentrale\, Martinstraße 
 14/1\, 1180 Wien
DESCRIPTION:Für Eltern von Babys, die sehr viel Zuwendung benötigen, schwer zufrieden z
 u stellen sind und ihre Bedürfnisse lautstark äußern. Hier ist Platz, um in
  geschütztem Rahmen Fragen zu stellen, sich auszutauschen und viele hilfrei
 che Tipps und Anregungen zu bekommen.\nDamit ein guter, gemeinsamter Start 
 dennoch gelingen kann.\nAnmeldung unter: www.susanneschmid.at/termine/ (htt
 ps://www.susanneschmid.at/termine/) oder einfach per Mail an hallo@susannes
 chmid.at (mailto:hallo@susanneschmid.at)\nWeitere Infos unter: www.susannes
 chmid.at (http://www.susanneschmid.at)\n \n
X-ALT-DESC;FMTTYPE=text/html:<p>Für Eltern von Babys, die sehr viel Zuwendung benötigen, schwer zufriede
 n zu stellen sind und ihre Bedürfnisse lautstark äußern. Hier ist Platz, um
  in geschütztem Rahmen Fragen zu stellen, sich auszutauschen und viele hilf
 reiche Tipps und Anregungen zu bekommen.</p><p>Damit ein guter, gemeinsamte
 r Start dennoch gelingen kann.</p><p>Anmeldung unter: <a class="text-entity
 -link" dir="auto" title="https://www.susanneschmid.at/termine/" href="https
 ://www.susanneschmid.at/termine/" target="_blank" rel="noopener noreferrer"
 >www.susanneschmid.at/termine/</a> oder einfach per Mail an <a href="mailto
 :hallo@susanneschmid.at">hallo@susanneschmid.at</a></p><p>Weitere Infos unt
 er: <a href="http://www.susanneschmid.at">www.susanneschmid.at</a></p><p> <
 /p>
CONTACT:hallo@susanneschmid.at
X-EXTRAINFO:[preis='1500'][anmeldung='true']
DTSTAMP:20260423T144334
DTSTART:20220916T080000
DTEND:20220916T100000
SEQUENCE:0
TRANSP:OPAQUE
END:VEVENT
END:VCALENDAR