BEGIN:VCALENDAR
VERSION:2.0
PRODID:-//jEvents 2.0 for Joomla//EN
CALSCALE:GREGORIAN
METHOD:PUBLISH
BEGIN:VEVENT
UID:5e0db5c54c08d957cdf906698c87f0f8
CATEGORIES:7. Bezirk
CREATED:20220912T094017
SUMMARY:Eltern-Kind-Frühstück in der evangelischen Pfarrgemeinde
LOCATION:Lindengasse 44
DESCRIPTION:<p>Jeden zweiten Mittwoch (ausg. Schulferien) gibt es unser offenes Eltern-
 Kind-Frühstück im Gemeindesaal. Ab 9 Uhr steht der gedeckte Frühstückstisch
  für Kleine und Große bereit. Viele Rutschautos warten genauso wie die unte
 rschiedlichsten Spielmaterialien auf unsere kleinen Gäste...</p><p>Ab ca. 1
 0.30 Uhr gibt es gemeinsames Programm</p><p>7.9. Wiedersehen &amp; Kennenle
 rnen </p><p>21.9. (Gwand-)Tauschaktion – komm mit zu kleinen, zu großen, ni
 cht mehr gewollten Sachen von Dir &amp; Deinen Kindern und lass dich von de
 n Dingen der anderen überraschen....</p><p>5.10. Fingerspiele, Lieder &amp;
  Kniereiter</p><p>19.10. Wacheltuchspiele</p><p>9.11. singen &amp; klingen<
 /p><p>23.11. Farbspektakel - bitte unempfindlich anziehen!</p><p>7.12. MUMe
 lade unterwegs!</p><p>21.12. Wintergeschichten...</p><p>Frühstücksbeitrag f
 ür Erwachsene 5 Euro, Anmeldung bis Di Abend bei eva_hut [at] hotmail.com</
 p>
CONTACT:https://www.evang-neubau.at/
X-EXTRAINFO:[preis='500'][anmeldung='true']
DTSTAMP:20260423T113737
DTSTART:20221005T070000
DTEND:20221005T093000
SEQUENCE:0
TRANSP:OPAQUE
END:VEVENT
END:VCALENDAR