BEGIN:VCALENDAR
VERSION:2.0
PRODID:-//jEvents 2.0 for Joomla//EN
CALSCALE:GREGORIAN
METHOD:PUBLISH
BEGIN:VEVENT
UID:76b8c8e64787f28f38895c1d2cce2e07
CATEGORIES:3. Bezirk
CREATED:19700101T010000
SUMMARY:Babymassage
LOCATION:derkreativraum\, Hörnesgasse 18\, 1030 Wien
DESCRIPTION:<p><a href="http://www.derkreativraum.at">www.derkreativraum.at</a></p>
CONTACT:06643935509 oder office@derkreativraum.at (Mag. Gyda Federer)
X-EXTRAINFO:[preis='8800'][anmeldung='true']
DTSTAMP:20260423T173532
DTSTART:20220917T083000
DTEND:20220917T092000
SEQUENCE:0
RRULE:FREQ=DAILY;UNTIL=20221023T000000Z;INTERVAL=1
EXDATE:20220918T083000
TRANSP:OPAQUE
END:VEVENT
END:VCALENDAR