BEGIN:VCALENDAR
VERSION:2.0
PRODID:-//jEvents 2.0 for Joomla//EN
CALSCALE:GREGORIAN
METHOD:PUBLISH
BEGIN:VEVENT
UID:1c2af9899bd22374888bc640901aac8e
CATEGORIES:3. Bezirk
CREATED:19700101T010000
SUMMARY:Kreative Sing- und Bewegungsmäuse
LOCATION:derkreativraum\, Hörnesgasse 18\, 1030 Wien
DESCRIPTION:<p><a href="http://www.derkreativraum.at">www.derkreativraum.at</a></p>
CONTACT:06643935509 oder office@derkreativraum.at (Mag. Gyda Federer)
X-EXTRAINFO:[preis='17000'][anmeldung='true']
DTSTAMP:20260423T220332
DTSTART:20220915T084500
DTEND:20220915T093500
SEQUENCE:0
RRULE:FREQ=WEEKLY;COUNT=10;INTERVAL=1;BYDAY=TH
TRANSP:OPAQUE
END:VEVENT
END:VCALENDAR